BEGIN:VCALENDAR
VERSION:2.0
PRODID:-//УЦМЧС.РФ - ECPv6.15.11//NONSGML v1.0//EN
CALSCALE:GREGORIAN
METHOD:PUBLISH
X-ORIGINAL-URL:https://ucmchs.ru
X-WR-CALDESC:Мероприятия для УЦМЧС.РФ
REFRESH-INTERVAL;VALUE=DURATION:PT1H
X-Robots-Tag:noindex
X-PUBLISHED-TTL:PT1H
BEGIN:VTIMEZONE
TZID:Europe/Moscow
BEGIN:STANDARD
TZOFFSETFROM:+0300
TZOFFSETTO:+0300
TZNAME:MSK
DTSTART:20250101T000000
END:STANDARD
END:VTIMEZONE
BEGIN:VEVENT
DTSTART;TZID=Europe/Moscow:20260404T110000
DTEND;TZID=Europe/Moscow:20260405T161500
DTSTAMP:20260424T205752
CREATED:20251108T203624Z
LAST-MODIFIED:20251120T211532Z
UID:32860-1775300400-1775405700@ucmchs.ru
SUMMARY:Курс «Навигация» 04-05 апреля 2026
DESCRIPTION:Набор учебной группы для прохождения курса  «Навигация»    \n\n\n\n04-05 апреля 2026г. \n\n\n\n\n\n\nСеминар проводится на средства от пожертвования участников \n\n\n\nОргвзнос для участия в семинаре составляет 4 400 рублей.  \n\n\n\nПри предоплате до 01.04.2026 оргвзнос составит всего 3 100 рублей \n\n\n\n\n\n*При одновременном прохождении курсов «Навигация» и «Радиосвязь» 04-05 апреля 2026  года сумма оргвзноса при предоплате составит 5 500 рублей за оба курса. \n\n\n\n\n!!! ВНИМАНИЕ!!! Бронирование места в группе осуществляется после оплаты оргвзноса !!! \n\n\n\n\n\nРасписание курса:04 апреля с 11.00 до 15.30 — теоретическая часть05 апреля с 11.00 до 15.30 — практическая часть \n\n\n\nПредлагаем Вашему вниманию\, созданный специалистами нашего Учебного центра\, курс «Навигация». Он не содержит прямой информации о первой помощи\, медицине или методах спасения\, но умение быстро ориентироваться на местности и использовать средства навигации может оказать решающее значение для прибытия помощи и эвакуации пострадавшего при возникновении нештатной ситуации. \n\n\n\nМногие туристы и спасатели знают\, что часто более длинный путь по просекам\, дорогам и открытым местам оказывается более оптимальным (то есть преодолевается быстрее и с меньшими затратами сил)\, чем «лосить напрямую по азимуту». Но в некоторых ситуациях движение напрямик наоборот дает выигрыш. Это зависит от многих факторов\, которые следует предусмотреть и учесть при прокладке маршрута. На курсе вы узнаете\, как оценивать и выбирать оптимальный путь к цели. Поймём\, как можно оценить проложенный маршрут\, какой метод передвижения будет более простым\, быстрым и логичным\, вне зависимости от того какими средствами навигации вы пользуетесь. \n\n\n\nНа практической части курса вы самостоятельно выполните несколько заданий по прокладке маршрута с помощью карты\, компаса\, навигатора \n\n\n\n\n\n \n\n\n\nАвторы и ведущие курса: Спасатель и опытный радиолюбитель — Евгений Аристархов и Инструктор спортивного туризма\, судья второй категории по спортивному туризму\, добровольный спасатель — Екатерина Егорова \n\n\n\nP.S. Если у вас уже есть навигаторы\, компасы\, карты и прочие средства навигации\, то рекомендуем взять их с собой\, что бы\, прежде всего\, научиться работать со своим оборудованием. \n\n\n\nЧто бы записаться на этот курс заполните ниже форму записи \n\n\n\n\n  \n\n\n\n *Ваша фамилия на русском языке (обязательно)\n \n \n*Ваше Имя и Отчество (при наличии) на русском языке (обязательно)\n\n \n*Дата Вашего рождения в формате "день.месяц.год" (обязательно)\n\n \n *Ваш ДЕЙСТВУЮЩИЙ e-mail (обязательно) ВНИМАНИЕ!!! В связи с вступлением в силу Федерального закона от 31.07.2023 N 406-ФЗ "О внесении изменений в Федеральный закон "Об информации\, информационных технологиях и о защите информации" и Федеральный закон "О связи" регистрация с использованием иностранных почтовых сервисов (Gmal\, Yahoo и пр.) не возможна. Указывайте адрес электронной почты обслуживаемый Российским оператором (mail.ru\, yandex.ru и др.)\n \n \n *Ваш телефон в формате 7(***)***-**-**(обязательно)\n \n \n Адрес страницы в ВКонтакте (при наличии)\n \n \nЯ имею право на субсидию и хочу воспользоваться скидкой на оргвзнос\nПодробнее о субсидиях (скидках) в разделе сайта "Разное .... Скидки и субсидии"\nОплата оргвзноса заранее (предоплата)Есть подарочный сертификатЕсть скидочная карта или флаерПовторно прохожу курсыДонор кровиДонор костного мозгаЧлен добровольного спасательного отрядаВолонтер благотворительной организацийАттестованный Спасатель.РядомПочётный донор России" или "Почётный донор СССР"Действительный донор костного мозгаСотрудник (работник) оперативной службы\n \nКакое навигационное оборудование у вас есть?\nНичего нетТуристический навигаторАвтомобильный навигаторСмартфон с навигаторомКомпасКурвиметрМасштабная линейкаМасштабный циркуль\n \nЯ участвую в семинаре от ЮРИДИЧЕСКОГО лица и мне нужны документы для оплаты по безналичному расчёту.\nНетДа\n \n Дополнительная информация для администратора\n \n \nСогласие на обработку персональных данных\nЯ согласен с обработкой моих персональных данных в соответствии с Политикой конфиденциальности\n \nВЫ НЕ СМОЖЕТЕ ОТПРАВИТЬ ДАННЫЕ НЕ ДАВ СОГЛАСИЕ НА ИХ ОБРАБОТКУ\n      \n \n\n\n\n\n\n\nЧто бы не забыть о курсе Вы можете автоматически внести информацию о своей записи в свой календарь в Google Calendar\, Apple iCal или Microsoft Outlook нажав кнопку ниже \n\n\n\n\n\nМесто проведения занятий может измениться! Точную информацию пришлёт администратор курса при оплате и подтверждении записи.
URL:https://ucmchs.ru/event/navi-04-04-2026/
LOCATION:Санкт-Петербург\, Санкт-Петербург\, 190000\, Российская Федерация
CATEGORIES:-,Курс "Навигация"
ATTACH;FMTTYPE=image/png:https://ucmchs.ru/wp-content/uploads/2020/12/Навигация.png
ORGANIZER;CN="%D0%A3%D0%A6 %D0%9C%D0%B5%D0%B4%D0%B8%D1%86%D0%B8%D0%BD%D1%8B %D0%A7%D0%A1%D0%B8%D0%91%D0%96":MAILTO:mail@ucmchs.ru/
END:VEVENT
BEGIN:VEVENT
DTSTART;TZID=Europe/Moscow:20260404T110000
DTEND;TZID=Europe/Moscow:20260405T190000
DTSTAMP:20260424T205752
CREATED:20251109T134225Z
LAST-MODIFIED:20251120T214559Z
UID:32967-1775300400-1775415600@ucmchs.ru
SUMMARY:Спецкурс первая помощь при ДТП 04-05 апреля 2026г.
DESCRIPTION:Набор учебной группы для прохождения спецкурса «Первая помощь при ДТП»  \n\n\n\n04-05 апреля 2026г. \n\n\n\n\n\n\nОргвзнос для участия в семинаре составляет 8 200 рублей.  \n\n\n\nПри предоплате до 01.04.2026 орг.взнос составит всего 5 700 рублей \n\n\n\n\nВНИМАНИЕ! Внимание! Перед прохождением курса «Первая помощь при ДТП» желательно пройти Базовый курс оказания первой помощи \n\n\n\nКурс “Первая помощь при ДТП” разработан с учетом специфики алгоритмов обеспечения безопасности и первой помощи при дорожно-транспортном происшествии. В ситуации ДТП помощь пострадавшим требуется незамедлительно до прибытия оперативных служб. В ходе курса подробно разбираются типичные травмы и состояния пострадавших в ДТП\, системы пассивной и активной безопасности автомобилей\, необходимое в машине снаряжение — огнетушители и автомобильные аптечки первой помощи. \n\n\n\nПрактическая часть проводится только на улице в теплое время года. Слушатели используют на тренировке оборудование собственного автомобиля при работе на нескольких “типичных” ДТП. \n\n\n\nЗапланированные результаты прохождения курса:\n\n\n\n\nнаучиться оказывать первую помощь при дорожно-транспортных происшествиях\, в ситуациях\, несущих угрозу жизни пострадавшего.\n\n\n\nизучить алгоритмы действий при обеспечении безопасности при ДТП;\n\n\n\nизучить юридические нормы и законы об оказании первой помощи в РФ при ДТП;\n\n\n\nнаучиться грамотно собирать аптечку первой помощи для автомобиля;\n\n\n\nнаучиться комплектовать снаряжение собственного автомобиля;\n\n\n\nознакомиться с необходимыми системами безопасности автомобиля и правилами использования активных и пассивных систем защиты:\n\n\n\nрассмотреть наиболее типичные травмы в ДТП и алгоритмы оказания помощи при их обнаружении.\n\n\n\n\nПрограмма курса соответствует требованиям Правил дорожного движения в части\, касающейся обучения водителей транспортных средств и пешеходов основам медицинской подготовки. \n\n\n\n\n\n \n\n\n\nИнструкторы курса: начальник учебного центра Яков Гинзбург (фельдшер\, спасатель 3 класса\, старший инструктор-методист по первой помощи)\, Анастасия Бубнова (врач\, спасатель\, старший инструктор-методист по первой помощи)\, Александр Абдукадыров (Спасатель\, инструктор по первой помощи) \n\n\n\n \n\n\n\nЧто бы записаться на этот курс заполните ниже форму записи \n\n\n\n\n  \n\n\n\n *Ваша фамилия на русском языке (обязательно)\n \n \n*Ваше Имя и Отчество (при наличии) на русском языке (обязательно)\n\n \n*Дата Вашего рождения в формате "день.месяц.год" (обязательно)\n\n \n *Ваш ДЕЙСТВУЮЩИЙ e-mail (обязательно) ВНИМАНИЕ!!! В связи с вступлением в силу Федерального закона от 31.07.2023 N 406-ФЗ "О внесении изменений в Федеральный закон "Об информации\, информационных технологиях и о защите информации" и Федеральный закон "О связи" регистрация с использованием иностранных почтовых сервисов (Gmal\, Yahoo и пр.) не возможна. Указывайте адрес электронной почты обслуживаемый Российским оператором (mail.ru\, yandex.ru и др.)\n \n \n *Ваш телефон в формате 7(***)***-**-**(обязательно)\n \n \n Адрес страницы в ВКонтакте (при наличии)\n \n \nКакого класса у Вас автомобиль?\nНет автомобиля (я пассажир)ЛегковойКросоверПолноприводныйПодготовленный к off-road\n \nМарка и номер Вашего автомобиля\n\n \nГотовы ли Вы во время практических упражненний взять с собой в автомобиль ещё одного "безлошадного" участника?\nНетДа\n \nЯ имею право на субсидию и хочу воспользоваться скидкой на оргвзнос (ВНИМАНИЕ! РАЗМЕР СКИДКИ НА ВЫЕЗДНЫЕ СЕМИНАРЫ УТОЧНЯЙТЕ У АДМИНИСТРАТОРА ЦЕНТРА!)\nПодробнее о субсидиях (скидках) в разделе сайта "Разное .... Скидки и субсидии"\nОплата оргвзноса заранее (предоплата)Есть подарочный сертификатЕсть скидочная карта или флаерПовторно прохожу курсыДонор кровиДонор костного мозгаЧлен добровольного спасательного отрядаВолонтер благотворительной организацийАттестованный Спасатель.РядомПочётный донор России" или "Почётный донор СССР"Действительный донор костного мозгаСотрудник (работник) оперативной службы\n \nЯ участвую в семинаре от ЮРИДИЧЕСКОГО лица и мне нужны документы для оплаты по безналичному расчёту.\nНетДа\n \n Дополнительная информация для администратора\n \n \nСогласие на обработку персональных данных\nЯ согласен с обработкой моих персональных данных в соответствии с Политикой конфиденциальности\n \nВЫ НЕ СМОЖЕТЕ ОТПРАВИТЬ ДАННЫЕ НЕ ДАВ СОГЛАСИЕ НА ИХ ОБРАБОТКУ\n      \n \n\n\n\n\n\n\nЧто бы не забыть о курсе Вы можете автоматически внести информацию о своей записи в свой календарь в Google Calendar\, Apple iCal или Microsoft Outlook нажав кнопку ниже \n\n\n\n\n\nМесто проведения: \n\n\n\n\n\nВНИМАНИЕ!Место проведения занятий может измениться! Точную информацию пришлёт администратор курса при оплате и подтверждении записи. \n\n\n\n#авто дтп #автодтп #дорога дтп #дтп город #дтп погибший #дтп пострадавший #дтп происшествие #дтп район #дтп улицадействия при дорожно-транспортном происшествии #как помочь при ДТП
URL:https://ucmchs.ru/event/pp-pri-dtp-04-04-2026/
LOCATION:Санкт-Петербург\, Санкт-Петербург\, 190000\, Российская Федерация
CATEGORIES:-,ПП при ДТП,Расписание занятий
ATTACH;FMTTYPE=image/png:https://ucmchs.ru/wp-content/uploads/2020/12/ДТП.png
ORGANIZER;CN="%D0%A3%D0%A6 %D0%9C%D0%B5%D0%B4%D0%B8%D1%86%D0%B8%D0%BD%D1%8B %D0%A7%D0%A1%D0%B8%D0%91%D0%96":MAILTO:mail@ucmchs.ru/
END:VEVENT
BEGIN:VEVENT
DTSTART;TZID=Europe/Moscow:20260404T110000
DTEND;TZID=Europe/Moscow:20260405T210000
DTSTAMP:20260424T205752
CREATED:20251108T181106Z
LAST-MODIFIED:20251120T210305Z
UID:32789-1775300400-1775422800@ucmchs.ru
SUMMARY:«Базовый» курс оказания первой помощи 04-05 апреля 2026г.
DESCRIPTION:Набор учебной группы для прохождения курса  «Базовый»  \n\n\n\n04-05 апреля 2026г. \n\n\n\n\n\n\nОргвзнос для участия в семинаре составляет 6900 рублей.  \n\n\n\nПри предоплате до 01.04.2026 орг.взнос составит всего 4 800 рублей \n\n\n\n\n \n\n\n\nБазовый курс — это начальный и основной курс обучения оказанию первой помощи пострадавшим на месте происшествия до прибытия оперативных служб. Именно он дает основные знания алгоритмов оказания помощи\, которые позволяют уверенно действовать в критической ситуации. Благодаря четкому знанию алгоритма действий\, у слушателя — обычного человека\, появляются знания и умения оказать помощь пострадавшему до прибытия скорой помощи. Базовый курс является основой для прохождения дальнейшего обучения и посещения спецкурсов в Санкт-Петербургском учебном центре медицины ЧСиБЖ.При успешном окончании курса\, выдаются сертификаты Установленного образца.Так же возможно прохождение итоговой аттестации и оформления Удостоверений установленного образца. \n\n\n\n\n\nПрограмма соответствует требованиям Российского законодательства\, рекомендациям Международного общества Красного креста и Красного полумесяца; В программе учтены алгоритмы системы обучения EFR (Emergency First Response) Primary Care – CPR (первичная неотложная помощь – сердечно-легочная реанимация)\, рекомендаций Европейского совета по реанимации (ERC)\, но\, при этом\, обучение ведется по актуальными алгоритмам оказания первой помощи и проведения СЛР\, действующим в Российской Федерации и рекомендованным Российским национальным советом по реанимации\, Минздравом РФ\, Российским обществом первой помощи. \n\n\n\nИнструкторы курса: Аттестованные спасатели\, действующие пожарные\, практикующие врачи\, сотрудники станций скорой медицинской помощи – те\, кто на практике знает о важности своевременного и грамотного оказания помощи пострадавшим. \n\n\n\n \n\n\n\nМесто проведения: \n\n\n\n\n\nМесто проведения занятий может измениться! Точную информацию пришлёт администратор курса при оплате и подтверждении записи. \n\n\n\nЧто бы записаться на этот курс заполните ниже форму записи \n\n\n\n\n  \n\n\n\n *Ваша фамилия на русском языке (обязательно)\n \n \n*Ваше Имя и Отчество (при наличии) на русском языке (обязательно)\n\n \n*Ваша Фамилия на английском языке (транслитерация так же как написано на банковской карте/загранпаспорте/водительском удостоверении) (обязательно)\n\n \n*Ваше Имя на английском языке (транслитерация так же как написано на банковской карте/загранпаспорте/водительском удостоверении) (обязательно)\n\n \n*Дата Вашего рождения в формате "день.месяц.год" (обязательно)\n\n \n *Ваш ДЕЙСТВУЮЩИЙ e-mail (обязательно) ВНИМАНИЕ!!! В связи с вступлением в силу Федерального закона от 31.07.2023 N 406-ФЗ "О внесении изменений в Федеральный закон "Об информации\, информационных технологиях и о защите информации" и Федеральный закон "О связи" регистрация с использованием иностранных почтовых сервисов (Gmal\, Yahoo и пр.) не возможна. Указывайте адрес электронной почты обслуживаемый Российским оператором (mail.ru\, yandex.ru и др.)\n \n \n *Ваш телефон в формате 7(***)***-**-**(обязательно)\n \n \n Адрес страницы в ВКонтакте (при наличии)\n \n \nМне для работодателя требуется документ о прохождении программы обучения и итоговой аттестации "Приёмы оказания первой помощи пострадавшим на производстве" в порядке\, установленном Правилами оказания платных образовательных услуг (утв. Постановлением Правительства РФ от 15 августа 2013 г. №706)\, копия протокола заседания аттестационной комиссии и копия лицензии на образовательную деятельность.\nПрошу добавить стоимость аттестации (1 000р.) к сумме оргвзноса.\nНетДа (+1 000р.)\n \nЯ имею право на субсидию и хочу воспользоваться скидкой на оргвзнос\nПодробнее о субсидиях (скидках) в разделе сайта "Разное .... Скидки и субсидии"\nОплата оргвзноса заранее (предоплата)Есть подарочный сертификатЕсть скидочная карта или флаерПовторно прохожу курсыДонор кровиДонор костного мозгаЧлен добровольного спасательного отрядаВолонтер благотворительной организацийПочётный донор России" или "Почётный донор СССР"Действительный донор костного мозгаСотрудник (работник) оперативной службы\n \nЯ участвую в семинаре от ЮРИДИЧЕСКОГО лица и мне нужны документы для оплаты по безналичному расчёту.\nНетДа\n \n Дополнительная информация для администратора\n \n \nСогласие на обработку персональных данных\nЯ согласен с обработкой моих персональных данных в соответствии с Политикой конфиденциальности\n \nВЫ НЕ СМОЖЕТЕ ОТПРАВИТЬ ДАННЫЕ НЕ ДАВ СОГЛАСИЕ НА ИХ ОБРАБОТКУ\n      \n \n\n \n\n\n\n\n\n\nЧто бы не забыть о курсе Вы можете автоматически внести информацию о своей записи в свой календарь в Google Calendar\, Apple iCal или Microsoft Outlook нажав кнопку ниже
URL:https://ucmchs.ru/event/bazovyj-04-04-2026/
LOCATION:Конференц-центр «Игры разума»\, ул. Достоевского 19/21\, лит. Б.\, Санкт-Петербург\, Российская Федерация
CATEGORIES:-,Базовый курс
ATTACH;FMTTYPE=image/png:https://ucmchs.ru/wp-content/uploads/2020/12/Базовый.png
ORGANIZER;CN="%D0%A3%D0%A6 %D0%9C%D0%B5%D0%B4%D0%B8%D1%86%D0%B8%D0%BD%D1%8B %D0%A7%D0%A1%D0%B8%D0%91%D0%96":MAILTO:mail@ucmchs.ru/
END:VEVENT
BEGIN:VEVENT
DTSTART;TZID=Europe/Moscow:20260404T163000
DTEND;TZID=Europe/Moscow:20260405T153000
DTSTAMP:20260424T205752
CREATED:20251108T203506Z
LAST-MODIFIED:20260117T234450Z
UID:32855-1775320200-1775403000@ucmchs.ru
SUMMARY:Курс «Радиосвязь» 04-05 апреля 2026г.
DESCRIPTION:Набор учебной группы для прохождения курса  «Радиосвязь»    \n\n\n\n04-05 апреля 2026г. \n\n\n\n\n\n\nСеминар проводится на средства от пожертвования участников \n\n\n\nОргвзнос для участия в семинаре составляет 4 400 рублей.  \n\n\n\nПри предоплате до 01.04.2026 орвзнос составит всего 3 100 рублей \n\n\n\n\n\n*При одновременном прохождении курсов «Навигация» и «Радиосвязь» 04-05 апреля 2026 года сумма оргвзноса при предоплате составит 5 500 рублей за оба курса. \n\n\n\n\n!!! ВНИМАНИЕ!!! Бронирование места в группе осуществляется после оплаты оргвзноса !!! \n\n\n\n\n\nРасписание курса:04 апреля с 16.30 до 21.00 — теоретическая часть05 апреля с 11.00 до 15.30 — практическая часть \n\n\n\nПредлагаем Вашему вниманию один из нестандартных курсов нашего Учебного центра. Да\, он не содержит информации о первой помощи\, медицине и спасении напрямую\, но\, с другой стороны\, именно радиосвязь\, а также умение грамотно пользоваться оборудованием и эфиром может оказать решающее значение для  прибытия помощи и эвакуации пострадавшего при возникновении  такой необходимости. \n\n\n\nКурс будет интересен и полезен \n\n\n\n\nтуристам и путешественникам тем\, кто часто ходит в горы и различные пешие и водные походы (тем\, кто знает\, какого оно остаться без связи в путешествии)\n\n\n\nлюбителям охоты и рыбалки в глухих местах\n\n\n\nспасателям и участникам экспедиций.\n\n\n\nстрайк- и пейнтболистам\n\n\n\nтем\, кто не знает\, где можно приобрести рации и на какой из них остановить свой выбор\n\n\n\nпродавцам раций\n\n\n\nтем\, кто не умеет настраивать свои рации\, но хочет научиться (включая запись каналов и настройку субтона)\n\n\n\nначинающим радиолюбителям\n\n\n\nадминистраторам ресторанов\n\n\n\nвсем\, кто не сидит дома\, предпочитая активный образ жизни.\n\n\n\n\nВо время этого семинара вы найдёте ответы на следующие вопросы: \n\n\n\n\nКакие бывают виды радиосвязи. Гражданская и специальная радиосвязь.\n\n\n\nКакие рации удобнее использовать за городом/ на охоте/ на рыбалке/ в турпоходе/ в горах/ на поисково-спасательных работах?\n\n\n\nКакую рацию выбрать? Типы раций. Основные технические характеристики популярных раций. Ценовой диапазон\, бренды. Модельный ряд радиостанций.\n\n\n\nКак пользоваться радиостанцией? Как включить / Куда нажимать?\n\n\n\nКак проверить работоспособность радиостанции?\n\n\n\nКак самостоятельно наладить радиосвязь на несколько радио абонентов?\n\n\n\nКак правильно общаться по радиостанции\, что бы не было «бардака в эфире»?\n\n\n\nИзучите основные функции меню популярных раций\, потренируетесь в настройке раций и установлении радиосвязи\n\n\n\n\nАвтор и ведущий инструктор курса: Инструктор\, спасатель\, опытный радиолюбитель — Евгений Аристархов \n\n\n\nP.S. Если у вас уже есть радиостанция\, то рекомендуем её взять с собой\, что бы прежде всего научиться работать со своим оборудованием. \n\n\n\nЧто бы записаться на этот курс заполните ниже форму записи \n\n\n\n\n  \n\n\n\n *Ваша фамилия на русском языке (обязательно)\n \n \n*Ваше Имя и Отчество (при наличии) на русском языке (обязательно)\n\n \n*Дата Вашего рождения в формате "день.месяц.год" (обязательно)\n\n \n *Ваш ДЕЙСТВУЮЩИЙ e-mail (обязательно) ВНИМАНИЕ!!! В связи с вступлением в силу Федерального закона от 31.07.2023 N 406-ФЗ "О внесении изменений в Федеральный закон "Об информации\, информационных технологиях и о защите информации" и Федеральный закон "О связи" регистрация с использованием иностранных почтовых сервисов (Gmal\, Yahoo и пр.) не возможна. Указывайте адрес электронной почты обслуживаемый Российским оператором (mail.ru\, yandex.ru и др.)\n \n \n *Ваш телефон в формате 7(***)***-**-**(обязательно)\n \n \n Адрес страницы в ВКонтакте (при наличии)\n \n \nЯ имею право на субсидию и хочу воспользоваться скидкой на оргвзнос\nПодробнее о субсидиях (скидках) в разделе сайта "Разное .... Скидки и субсидии"\nОплата оргвзноса заранее (предоплата)Есть подарочный сертификатЕсть скидочная карта или флаерПовторно прохожу курсыДонор кровиДонор костного мозгаЧлен добровольного спасательного отрядаВолонтер благотворительной организацийАттестованный Спасатель.РядомПочётный донор России" или "Почётный донор СССР"Действительный донор костного мозгаСотрудник (работник) оперативной службы\n \nЕсть ли у Вас личная рация?\nДа\, есть личная рацияЛичной рации нет\, но есть служебнаяНет рации\n \nЯ участвую в семинаре от ЮРИДИЧЕСКОГО лица и мне нужны документы для оплаты по безналичному расчёту.\nНетДа\n \n Дополнительная информация для администратора\n \n \nСогласие на обработку персональных данных\nЯ согласен с обработкой моих персональных данных в соответствии с Политикой конфиденциальности\n \nВЫ НЕ СМОЖЕТЕ ОТПРАВИТЬ ДАННЫЕ НЕ ДАВ СОГЛАСИЕ НА ИХ ОБРАБОТКУ\n      \n \n\n\n\n\n\n\nЧто бы не забыть о курсе Вы можете автоматически внести информацию о своей записи в свой календарь в Google Calendar\, Apple iCal или Microsoft Outlook нажав кнопку ниже \n\n\n\n\n\nМесто проведения занятий может измениться! Точную информацию пришлёт администратор курса при оплате и подтверждении записи.
URL:https://ucmchs.ru/event/radiosvyaz-04-04-2026/
LOCATION:Санкт-Петербург\, Санкт-Петербург\, 190000\, Российская Федерация
CATEGORIES:-,Курс "Радиосвязь"
ATTACH;FMTTYPE=image/png:https://ucmchs.ru/wp-content/uploads/2020/12/Радиосвязь-1.png
ORGANIZER;CN="%D0%A3%D0%A6 %D0%9C%D0%B5%D0%B4%D0%B8%D1%86%D0%B8%D0%BD%D1%8B %D0%A7%D0%A1%D0%B8%D0%91%D0%96":MAILTO:mail@ucmchs.ru/
END:VEVENT
END:VCALENDAR