BEGIN:VCALENDAR
VERSION:2.0
PRODID:-//УЦМЧС.РФ - ECPv6.15.11//NONSGML v1.0//EN
CALSCALE:GREGORIAN
METHOD:PUBLISH
X-ORIGINAL-URL:https://ucmchs.ru
X-WR-CALDESC:Мероприятия для УЦМЧС.РФ
REFRESH-INTERVAL;VALUE=DURATION:PT1H
X-Robots-Tag:noindex
X-PUBLISHED-TTL:PT1H
BEGIN:VTIMEZONE
TZID:Europe/Moscow
BEGIN:STANDARD
TZOFFSETFROM:+0300
TZOFFSETTO:+0300
TZNAME:MSK
DTSTART:20250101T000000
END:STANDARD
END:VTIMEZONE
BEGIN:VEVENT
DTSTART;TZID=Europe/Moscow:20260529T180000
DTEND;TZID=Europe/Moscow:20260530T210000
DTSTAMP:20260425T000620
CREATED:20241207T205600Z
LAST-MODIFIED:20260209T004417Z
UID:33621-1780077600-1780174800@ucmchs.ru
SUMMARY:ЗАПИСЬ СТАТИСТОВ НА БТД-2026
DESCRIPTION:!!!ВНИМАНИЕ!!!\n\n\n\nЗДЕСЬ ЗАПИСЫВАЮТСЯ \n\n\n\nТОЛЬКО СТАТИСТЫ БТД-2026\n\n\n\n \n\n\n\nДля участия в БТД-2026 В КАЧЕСТВЕ СТАТИСТА пожалуйста заполните форму ниже.\n\n\n\nПоля ОБЯЗАТЕЛЬНЫЕ для заполнения отмечены звёздочкой (*)\n\n\n\n\n  \n\n\n\n *Ваши Фамилия\, Имя\, (обязательно)\, Отчество (при наличии)\n \n *Ваш e-mail (обязательно) ВНИМАНИЕ!!! В связи с вступлением в силу Федерального закона от 31.07.2023 N 406-ФЗ "О внесении изменений в Федеральный закон "Об информации\, информационных технологиях и о защите информации" и Федеральный закон "О связи" регистрация с использованием иностранных почтовых сервисов (Gmal\, Yahoo и пр.) не возможна. Указывайте адрес электронной почты обслуживаемый Российским оператором (mail.ru\, yandex.ru и др.)\n \n *Ваш телефон (обязательно)\n \n Адрес в ВК (желательно)\n \n \n *>Совершеннолетие\n—Выберите вариант—Мне уже есть 18 летЯ несовершеннолетний!\n \n *Время заезда (когда Вы планируете приехать)\n—Выберите вариант—Пока не знаю28 мая (четверг) вечер с 18.0029 мая (Пятница) утро с 08.00 до 14.0029 мая (Пятница) день с 14.00 до 20.0029 мая (Пятница) вечер после 20.0030 мая (утро) до 10.00 \n *Время отъезда (когда Вы планируете уехать)\n—Выберите вариант—Пока не знаю30 мая сразу после окончания тренировки на электричке30 мая вечером на машине31 мая (воскресение) днём \nВы собираетесь остаться на ночёвку в палаточном лагере?\n—Выберите вариант—Пока не знаюНетДа\nЕсть ли у Вас палатка?\n—Выберите вариант—Есть место в палаткеЕсть своя палаткаЕсть своя палатка и готов принять кого-нибудь на ночёвкуМне нужно место в палатке для ночёвки\nЕсть ли у Вас спальный мешок?\n—Выберите вариант—Спальник естьМне нужен спальник\n*Есть ли у Вас действующий на территории России полис ОБЯЗАТЕЛЬНОГО медицинского страхования?\n—Выберите вариант—ДаНет\n \n *Вы приедете за рулём своей машины?\n—Выберите вариант—ДаНет\n Укажите\, марку и Гос. номер автомобиля. Это может облегчить работу коменданта лагеря.\n\n \n *Работали ли Вы статистом (условно-пострадавшим) на тренировках нашего учебного центра?\n—Выберите вариант—Да.Нет. Я в первый раз\n*Работали ли Вы статистом на БТД прошлых лет?\nНет. В БТД участвую впервыеВ 2013В 2014В 2015В 2016В 2017В 2018В 2019В 2020В2021В202220232024В 2025\n Есть ли у Вас туристический коврик (пенка)\nДа.Нет\n \n*Есть ли у вас аллергия?\nНетДа\nНа что?\n\n \nЕсть ли у Вас ограничения\, которые могут помешать Вам исполнять какую-либо роль? Если есть\, то напишите какие? (Например: "Мне нельзя переохлаждаться"\, "У меня больные колени\, поэтому я не могу долго стоять и ходить"\, "У меня эпилепсия и я не могу смотреть на мигающий свет"\, "Я боюсь высоты" пр.)\nУ меня ограничений нет\n \n Дополнительная информация от Вас для организаторов тренировки\n \n \nСогласие на обработку персональных данных\nЯ согласен с обработкой моих персональных данных в соответствии с Политикой конфиденциальности\n \nВЫ НЕ СМОЖЕТЕ ОТПРАВИТЬ ДАННЫЕ НЕ ДАВ СОГЛАСИЕ НА ИХ ОБРАБОТКУ
URL:https://ucmchs.ru/event/statisty-na-btd-2026/
LOCATION:Лесная база «Юность»\, ЛО\, Приозерский район\, п.Лосево\, ул. Следопытов д.2\, Российская Федерация
CATEGORIES:-,---
ATTACH;FMTTYPE=image/png:https://ucmchs.ru/wp-content/uploads/2024/12/2026-Логотип-БТД-2026.png
ORGANIZER;CN="%D0%A3%D0%A6 %D0%9C%D0%B5%D0%B4%D0%B8%D1%86%D0%B8%D0%BD%D1%8B %D0%A7%D0%A1%D0%B8%D0%91%D0%96":MAILTO:mail@ucmchs.ru/
END:VEVENT
END:VCALENDAR