BEGIN:VCALENDAR
VERSION:2.0
PRODID:-//УЦМЧС.РФ - ECPv6.15.11//NONSGML v1.0//EN
CALSCALE:GREGORIAN
METHOD:PUBLISH
X-ORIGINAL-URL:https://ucmchs.ru
X-WR-CALDESC:Мероприятия для УЦМЧС.РФ
REFRESH-INTERVAL;VALUE=DURATION:PT1H
X-Robots-Tag:noindex
X-PUBLISHED-TTL:PT1H
BEGIN:VTIMEZONE
TZID:Europe/Moscow
BEGIN:STANDARD
TZOFFSETFROM:+0300
TZOFFSETTO:+0300
TZNAME:MSK
DTSTART:20250101T000000
END:STANDARD
END:VTIMEZONE
BEGIN:VEVENT
DTSTART;TZID=Europe/Moscow:20260529T180000
DTEND;TZID=Europe/Moscow:20260530T210000
DTSTAMP:20260425T000734
CREATED:20241207T205600Z
LAST-MODIFIED:20260209T004417Z
UID:33621-1780077600-1780174800@ucmchs.ru
SUMMARY:ЗАПИСЬ СТАТИСТОВ НА БТД-2026
DESCRIPTION:!!!ВНИМАНИЕ!!!\n\n\n\nЗДЕСЬ ЗАПИСЫВАЮТСЯ \n\n\n\nТОЛЬКО СТАТИСТЫ БТД-2026\n\n\n\n \n\n\n\nДля участия в БТД-2026 В КАЧЕСТВЕ СТАТИСТА пожалуйста заполните форму ниже.\n\n\n\nПоля ОБЯЗАТЕЛЬНЫЕ для заполнения отмечены звёздочкой (*)\n\n\n\n\n  \n\n\n\n *Ваши Фамилия\, Имя\, (обязательно)\, Отчество (при наличии)\n \n *Ваш e-mail (обязательно) ВНИМАНИЕ!!! В связи с вступлением в силу Федерального закона от 31.07.2023 N 406-ФЗ "О внесении изменений в Федеральный закон "Об информации\, информационных технологиях и о защите информации" и Федеральный закон "О связи" регистрация с использованием иностранных почтовых сервисов (Gmal\, Yahoo и пр.) не возможна. Указывайте адрес электронной почты обслуживаемый Российским оператором (mail.ru\, yandex.ru и др.)\n \n *Ваш телефон (обязательно)\n \n Адрес в ВК (желательно)\n \n \n *>Совершеннолетие\n—Выберите вариант—Мне уже есть 18 летЯ несовершеннолетний!\n \n *Время заезда (когда Вы планируете приехать)\n—Выберите вариант—Пока не знаю28 мая (четверг) вечер с 18.0029 мая (Пятница) утро с 08.00 до 14.0029 мая (Пятница) день с 14.00 до 20.0029 мая (Пятница) вечер после 20.0030 мая (утро) до 10.00 \n *Время отъезда (когда Вы планируете уехать)\n—Выберите вариант—Пока не знаю30 мая сразу после окончания тренировки на электричке30 мая вечером на машине31 мая (воскресение) днём \nВы собираетесь остаться на ночёвку в палаточном лагере?\n—Выберите вариант—Пока не знаюНетДа\nЕсть ли у Вас палатка?\n—Выберите вариант—Есть место в палаткеЕсть своя палаткаЕсть своя палатка и готов принять кого-нибудь на ночёвкуМне нужно место в палатке для ночёвки\nЕсть ли у Вас спальный мешок?\n—Выберите вариант—Спальник естьМне нужен спальник\n*Есть ли у Вас действующий на территории России полис ОБЯЗАТЕЛЬНОГО медицинского страхования?\n—Выберите вариант—ДаНет\n \n *Вы приедете за рулём своей машины?\n—Выберите вариант—ДаНет\n Укажите\, марку и Гос. номер автомобиля. Это может облегчить работу коменданта лагеря.\n\n \n *Работали ли Вы статистом (условно-пострадавшим) на тренировках нашего учебного центра?\n—Выберите вариант—Да.Нет. Я в первый раз\n*Работали ли Вы статистом на БТД прошлых лет?\nНет. В БТД участвую впервыеВ 2013В 2014В 2015В 2016В 2017В 2018В 2019В 2020В2021В202220232024В 2025\n Есть ли у Вас туристический коврик (пенка)\nДа.Нет\n \n*Есть ли у вас аллергия?\nНетДа\nНа что?\n\n \nЕсть ли у Вас ограничения\, которые могут помешать Вам исполнять какую-либо роль? Если есть\, то напишите какие? (Например: "Мне нельзя переохлаждаться"\, "У меня больные колени\, поэтому я не могу долго стоять и ходить"\, "У меня эпилепсия и я не могу смотреть на мигающий свет"\, "Я боюсь высоты" пр.)\nУ меня ограничений нет\n \n Дополнительная информация от Вас для организаторов тренировки\n \n \nСогласие на обработку персональных данных\nЯ согласен с обработкой моих персональных данных в соответствии с Политикой конфиденциальности\n \nВЫ НЕ СМОЖЕТЕ ОТПРАВИТЬ ДАННЫЕ НЕ ДАВ СОГЛАСИЕ НА ИХ ОБРАБОТКУ
URL:https://ucmchs.ru/event/statisty-na-btd-2026/
LOCATION:Лесная база «Юность»\, ЛО\, Приозерский район\, п.Лосево\, ул. Следопытов д.2\, Российская Федерация
CATEGORIES:-,---
ATTACH;FMTTYPE=image/png:https://ucmchs.ru/wp-content/uploads/2024/12/2026-Логотип-БТД-2026.png
ORGANIZER;CN="%D0%A3%D0%A6 %D0%9C%D0%B5%D0%B4%D0%B8%D1%86%D0%B8%D0%BD%D1%8B %D0%A7%D0%A1%D0%B8%D0%91%D0%96":MAILTO:mail@ucmchs.ru/
END:VEVENT
BEGIN:VEVENT
DTSTART;TZID=Europe/Moscow:20260530T110000
DTEND;TZID=Europe/Moscow:20260530T193000
DTSTAMP:20260425T000734
CREATED:20260216T223623Z
LAST-MODIFIED:20260216T224448Z
UID:33734-1780138800-1780169400@ucmchs.ru
SUMMARY:Кубок «Первое звено 2026»
DESCRIPTION:ВНИМАНИЕ! В ДАННОМ МЕРОПРИЯТИИ МОГУТ ПРИНИМАТЬ УЧАСТИЕ ТОЛЬКО ПРЕДСТАВИТЕЛИ ЮРИДИЧЕСКИХ ЛИЦ! \n\n\n\nС мая 2022 года при содействии Санкт-Петербургского регионального отделения Российского общества первой помощи и главного внештатного специалиста Министерства здравоохранения по первой помощи в Северо-Западном Федеральном округе\, уже традиционно\, ежегодно проходят специальные соревнования корпоративных формирований и работников производственных предприятий по оказанию первой помощи «Кубок «Первое звено». \n\n\n\nВ соревнованиях участвовали в т.ч. такие предприятия и организации как АО «Группа «Илим»\, ООО «Газпром газификация»\, ППО «Газпром администрация профсоюз»\, ООО «Аква»\, Филиал ПАО «Газпром» «Главное управление охраны ПАО «Газпром» в г. Санкт-Петербурге\, АО «Первоуральский новотрубный завод»\, СПб ГБПОУ «Пожарно-спасательный колледж «Санкт-Петербургский центр подготовки спасателей». \n\n\n\n30 мая 2026 года в Ленинградской области пройдут Пятые специальные соревнования команд корпоративных формирований и работников производственных предприятий по оказанию первой помощи Кубок «Первое звено». \n\n\n\nПриглашаем представителей организаций и предприятий принять участие в соревнованиях.  \n\n\n\n\n\n\n\nКРАТКИЙ FAQ\n\n\n\n— А кто будет соревноваться?— В соревнованиях принимают активное участие обычные работники предприятий и организаций\, обученные оказывать первую помощь\, а так же добровольцы внештатных аварийно-спасательных формирований предприятий.— А что будет?— Участников ждут практические задания на учебно-тренировочной площадке. Команды будут оказывать помощь и помогать условно-пострадавшим при несчастных случаях на производствах и в быту.— А как это всё происходит?— Все задания отрабатываются на статистах (живых людях) специально загримированных в соответствии с легендой упражнения. За ходом выполнения каждого упражнения следит опытный инструктор\, который по окончании этапа указывает на ошибки допущенные участниками и разъясняет\, как и что нужно было сделать.— А если работники проходили только курсы первой помощи в рамках обучения по охране труда им можно участвовать?— Да\, не только можно\, но и нужно. Рамки первой помощи одинаковые и для спасателя и для обычного работника. На соревнованиях оцениваются только навыки оказания первой помощи.— А как подать заявку?— Форма подачи заявки ниже \n\n\n\n\n\n\n\nИтак\, в субботу 30 мая 2026 года ждем Вас и Ваших коллег на Кубке «Первое звено» В этом году соревнования проводится уже пятый раз!\n\n\n\n\n\n\n\n\n\n\n\n\n\n\n\n\n\n\n\nФОРМА ПОДАЧИ ЗАЯВКИ ОТ ПРЕДПРИЯТИЯ\n\n\n\n\n  \n\n\n\n *Название компании(обязательно)\n \n \n *ФИО контактного лица (обязательно)\n \n \n *Телефон контактного лица (обязательно)\n \n \n *e-mail контактного лица (обязательно) ВНИМАНИЕ!!! В связи с вступлением в силу Федерального закона от 31.07.2023 N 406-ФЗ "О внесении изменений в Федеральный закон "Об информации\, информационных технологиях и о защите информации" и Федеральный закон "О связи" регистрация с использованием иностранных почтовых сервисов (Gmal\, Yahoo и пр.) не возможна. Указывайте адрес электронной почты обслуживаемый Российским оператором (mail.ru\, yandex.ru и др.)\n \n \n Реквизиты компании для оформления договора:\n \n \nСогласие на обработку персональных данных\nЯ согласен с обработкой моих персональных данных в соответствии с Политикой конфиденциальности\n \nВЫ НЕ СМОЖЕТЕ ОТПРАВИТЬ ДАННЫЕ НЕ ДАВ СОГЛАСИЕ НА ИХ ОБРАБОТКУ
URL:https://ucmchs.ru/event/zveno2026/
LOCATION:Ленинградская область\, Приозерский район\, п. Лосево
CATEGORIES:---
ATTACH;FMTTYPE=image/png:https://ucmchs.ru/wp-content/uploads/2025/11/2026-Эмблемма-Кубок-Первое-звено.png
ORGANIZER;CN="%D0%A3%D0%A6 %D0%9C%D0%B5%D0%B4%D0%B8%D1%86%D0%B8%D0%BD%D1%8B %D0%A7%D0%A1%D0%B8%D0%91%D0%96":MAILTO:mail@ucmchs.ru/
END:VEVENT
BEGIN:VEVENT
DTSTART;TZID=Europe/Moscow:20260530T120000
DTEND;TZID=Europe/Moscow:20260530T193000
DTSTAMP:20260425T000735
CREATED:20251109T184633Z
LAST-MODIFIED:20260217T164238Z
UID:33050-1780142400-1780169400@ucmchs.ru
SUMMARY:Большой тренировочный день 2026 (#БТД2026)
DESCRIPTION:Приглашаем всех желающих принять участие в самой масштабной тренировке по первой помощи\n\n\n\n«ХIV БОЛЬШОЙ ТРЕНИРОВОЧНЫЙ ДЕНЬ 2026» \n\n\n\nКрупнейшая тренировка года проводится уже в четырнадцатый раз и с каждым годом становится все более разнообразной и насыщенной!\n\n\n\nК участию приглашаем всех прошедших курсы первой помощи в Учебном центре медицины ЧСиБЖ\, ucmchs.ru\, в других организациях. Тех\, кто хочет проверить и закрепить собственные знания и умения в оказании первой помощи! \n\n\n\nБольшой Тренировочный день 2026 пройдёт в сосновом лесу в посёлке Лосево Приозерского района ЛО\, что позволяет максимально приблизить к реальности инсценировки несчастных случаев как в городе\, так и в походных условиях. \n\n\n\nБольшой Тренировочный день 2026 ждет своих героев — участников и статистов 30 мая 2026 года на традиционном месте в окрестностях базы отдыха «Юность» («Город мастеров») в посёлке Лосево ПРИОЗЕРСКОГО РАЙОНА Ленинградской области! \n\n\n\n\n\n\n\nЧто будет? Самая масштабная тренировка по первой помощи в году.Сколько этапов? Пока сами не знаем\, но твердо обещаем более 20-ти ситуационных задач\, самых интересных из практики спасения за прошлые годы. Много первой помощи — базовой и для отдаленных районов\, моделирование психологических реакций\, традиционно реалистичный грим\, обед на костре и наше радушие — все для вас.\n\n\n\nПриглашаем всех желающих принять участие в очередной тренировке по отработке практических навыков оказания первой помощи. \n\n\n\n\n\n\n\nКРАТКИЙ FAQ\n\n\n\n— А кто будет тренироваться?— В тренировках принимают активное участие обычные люди\, обученные оказывать первую помощь на курсах учебного центра или аналогичных курса в других учебных заведениях. А так же добровольные и профессиональные пожарные и спасатели из Санкт-Петербурга\, Москвы\, Новгорода\, Пскова\, Екатеринбурга\, Казани и других городов.— А что будет?— Вас ждут практические задания на учебно-тренировочной площадке. Вы будете оказывать помощь и помогать пострадавшим при ДТП и падении с высот\, жертвам кораблекрушения и падения вертолёта\, пациентам с сердечным приступом и людям в различных шоковых состояниях.— А как это всё происходит?— Все задания отрабатываются на статистах (живых людях) специально загримированных в соответствии с легендой упражнения. За ходом выполнения каждого упражнения следит опытный инструктор\, который по окончании этапа указывает на ошибки допущенные участниками и разъясняет\, как и что нужно было сделать.— А если я не проходил никаких курсов мне можно участвовать?— Если Вы не знаете теории Вам будет сложно\, но мы можем присоединить Вас к команде наиболее опытных участников и вы пройдёте тренировку вместе с ними.— А как записаться?— Форма записи ниже \n\n\n\nP.S.Для аттестованных спасателей\, проводятся специальные этапы тренировки. Для того\, что бы пройти тренировку на этих этапах записывайтесь на соответствующую дистанцию \n\n\n\nПриезжайте с палатками\, лес отличный! А для любителей комфортных ночевок рядом дружественная база «Юность». \n\n\n\n\n\n\n\nИтак\, в субботу 30 мая 2026 года ждем всех на БТД-2026! В этом году событие проводится уже четырнадцатый раз!\n\n\n\nПодробная информация  — в обсуждениях группы БТД-2026 в ВКонтакте\n\n\n\nТем кто ещё находится в сомнении\, стоит ли участвовать: просмотр видео с прошедших БТД-2017\, БТД-2018\, БТД-2019\, БТД-2020\, БТД-2021\, БТД-2022\, БТД-2023\, БТД-2024\, БТД-2025 ОБЯЗАТЕЛЕН!!! \n\n\n\n#БТД2026\, #\, БольшойТренировочныйДень\, #ТренировкаПоПервойПомощи \n\n\n\n\n\n\n\n\n\n\n\nДля записи на БТД-2026 ОДИНОЧНОГО УЧАСТНИКА заполните ФОРМУ №1.\n\n\n\nДля записи на БТД-2026 КОМАНДЫ заполните ФОРМУ №2.\n\n\n\n\n\n\n\n\n\n\n\nФОРМА №1 (запись одного участника)\n\n\n\n\n  \n\n\n\n *Выберите дистанцию\n—Выберите вариант—Первая помощь (ПП)Первая помощь в отдалённых районах (ППвОР)\n \n *Ваша фамилия на русском языке (обязательно)\n \n*Ваше Имя и Отчество (при наличии) на русском языке (обязательно)\n\n \n *Ваш e-mail (обязательно) ВНИМАНИЕ!!! В связи с вступлением в силу Федерального закона от 31.07.2023 N 406-ФЗ "О внесении изменений в Федеральный закон "Об информации\, информационных технологиях и о защите информации" и Федеральный закон "О связи" регистрация с использованием иностранных почтовых сервисов (Gmal\, Yahoo и пр.) не возможна. Указывайте адрес электронной почты обслуживаемый Российским оператором (mail.ru\, yandex.ru и др.)\n \n *Ваш телефон (обязательно)\n \n Адрес в ВК (желательно)\n \n*Есть ли у Вас действующий на территории России полис ОБЯЗАТЕЛЬНОГО медицинского страхования?\n—Выберите вариант—ДаНет\n \n *Время заезда (когда Вы планируете приехать)\n—Выберите вариант—Пока не знаю29 мая (Пятница) вечер30 мая (утро) до 11.30\n *Время отъезда (когда Вы планируете уехать)\n—Выберите вариант—Пока не знаю30 мая сразу после окончания тренировки на электричке30 мая вечером на машине31 мая днём \n \n *Участвовали ли Вы в тренировках нашего учебного центра?\n—Выберите вариант—Нет. Я в первый раз участвуюДа.\n \n*Участвовали ли Вы в БТД прошлых лет?\nНет. В БТД участвую впервыеВ 2013В 2014В 2015В 2016В 2017В 2018В 2019В 20202021202220232024В 2025\n \n______________________________________________________________________________________________\n *Вы приедете за рулём своей машины?\n—Выберите вариант—ДаНет\n Укажите\, марку и Гос. номер автомобиля. Это может облегчить работу коменданта лагеря.\n\nВы собираетесь остаться на ночёвку в палаточном лагере?\n—Выберите вариант—Пока не знаюНетДа\n \n Дополнительная информация от Вас для организаторов тренировки\n \n \nСогласие на обработку персональных данных\nЯ согласен с обработкой моих персональных данных в соответствии с Политикой конфиденциальности\n \nВЫ НЕ СМОЖЕТЕ ОТПРАВИТЬ ДАННЫЕ НЕ ДАВ СОГЛАСИЕ НА ИХ ОБРАБОТКУ\n      \n \n\n\n\n\n\n\n\n\n\n\n\n\n\n\nФОРМА №2 (запись сформированной команды)\n\n\n\n\n  \n\n\n\n *Выберите дистанцию\n—Выберите вариант—Первая помощь (ПП)Первая помощь в отдалённых районах (ППвОР)АСРиПСР (для спасателей)\n \n *Фамилия КАПИТАНА (обязательно)\n \n \n*Ваше Имя и Отчество (при наличии) КАПИТАНА (обязательно)\n\n \n *e-mail КАПИТАНА (обязательно) ВНИМАНИЕ!!! В связи с вступлением в силу Федерального закона от 31.07.2023 N 406-ФЗ "О внесении изменений в Федеральный закон "Об информации\, информационных технологиях и о защите информации" и Федеральный закон "О связи" регистрация с использованием иностранных почтовых сервисов (Gmal\, Yahoo и пр.) не возможна. Указывайте адрес электронной почты обслуживаемый Российским оператором (mail.ru\, yandex.ru и др.)\n \n *Телефон КАПИТАНА (обязательно)\n \n Адрес в ВКонтакте КАПИТАНА (желательно)\n \n \n*Список участников команды: (Фамилия\, Имя\, Отчество\, Телфон\, e-mail\, Адрес в ВКонтакте)\n\n*Есть ли у ВСЕХ участников команды действующий на территории России полис ОБЯЗАТЕЛЬНОГО медицинского страхования?\n—Выберите вариант—ДаНет\n \n *Время заезда (когда Вы планируете приехать)\n—Выберите вариант—Пока не знаю29 мая (Пятница) вечер30 мая (утро) до 11.30\n *Время отъезда (когда Вы планируете уехать)\n—Выберите вариант—Пока не знаю30 мая сразу после окончания тренировки на электричке30 мая вечером на машине31 мая днём \n \n *Сколько автомобилей будет у Вашей команды?\n—Выберите вариант—0123456\n Укажите\, если знаете марки и Гос. номера автомобилей. Это может облегчить работу коменданта лагеря.\n\n \n*Сколько участников Вашей команды останется на ночёвку в палаточном лагере?\n—Выберите вариант—0123456\n *Сколько палаток будет у Вашей команды?\n—Выберите вариант—0123456\n \n *Участвовали ли Вы в тренировках нашего учебного центра?\n—Выберите вариант—Нет. Я в первый раз участвуюДа.\n \n*Участвовали ли Вы в БТД прошлых лет?\nНет. В БТД участвуем впервыеВ 2013В 2014В 2015В 2016В 2017В 2018В 2019В 2020В 2021В 2022В 2023В 2024В 2025\n \n_______________________________________________________________________________________________\n \n Дополнительная информация от Вас для организаторов тренировки\n \n \nСогласие на обработку персональных данных\nЯ согласен с обработкой моих персональных данных в соответствии с Политикой конфиденциальности\n \nВЫ НЕ СМОЖЕТЕ ОТПРАВИТЬ ДАННЫЕ НЕ ДАВ СОГЛАСИЕ НА ИХ ОБРАБОТКУ
URL:https://ucmchs.ru/event/btd2026/
LOCATION:Ленинградская область\, Приозерский район\, п. Лосево
CATEGORIES:---
ATTACH;FMTTYPE=image/jpeg:https://ucmchs.ru/wp-content/uploads/2019/07/IMG_6793.jpg
ORGANIZER;CN="%D0%A3%D0%A6 %D0%9C%D0%B5%D0%B4%D0%B8%D1%86%D0%B8%D0%BD%D1%8B %D0%A7%D0%A1%D0%B8%D0%91%D0%96":MAILTO:mail@ucmchs.ru/
END:VEVENT
END:VCALENDAR