BEGIN:VCALENDAR
VERSION:2.0
PRODID:-//УЦМЧС.РФ - ECPv6.15.11//NONSGML v1.0//EN
CALSCALE:GREGORIAN
METHOD:PUBLISH
X-ORIGINAL-URL:https://ucmchs.ru
X-WR-CALDESC:Мероприятия для УЦМЧС.РФ
REFRESH-INTERVAL;VALUE=DURATION:PT1H
X-Robots-Tag:noindex
X-PUBLISHED-TTL:PT1H
BEGIN:VTIMEZONE
TZID:Europe/Moscow
BEGIN:STANDARD
TZOFFSETFROM:+0300
TZOFFSETTO:+0300
TZNAME:MSK
DTSTART:20250101T000000
END:STANDARD
END:VTIMEZONE
BEGIN:VEVENT
DTSTART;TZID=Europe/Moscow:20260613T110000
DTEND;TZID=Europe/Moscow:20260614T190000
DTSTAMP:20260425T013720
CREATED:20251109T134225Z
LAST-MODIFIED:20260411T221213Z
UID:32968-1781348400-1781463600@ucmchs.ru
SUMMARY:Спецкурс первая помощь при ДТП 13-14 июня 2026г.
DESCRIPTION:Набор учебной группы для прохождения спецкурса «Первая помощь при ДТП»  \n\n\n\n13-14 июня 2026г. \n\n\n\n\n\n\nОргвзнос для участия в семинаре составляет 8 200 рублей.  \n\n\n\nПри предоплате до 10.06.2026 орг.взнос составит всего 5 700 рублей \n\n\n\n\nВНИМАНИЕ! Внимание! Перед прохождением курса «Первая помощь при ДТП» желательно пройти Базовый курс оказания первой помощи \n\n\n\nКурс “Первая помощь при ДТП” разработан с учетом специфики алгоритмов обеспечения безопасности и первой помощи при дорожно-транспортном происшествии. В ситуации ДТП помощь пострадавшим требуется незамедлительно до прибытия оперативных служб. В ходе курса подробно разбираются типичные травмы и состояния пострадавших в ДТП\, системы пассивной и активной безопасности автомобилей\, необходимое в машине снаряжение — огнетушители и автомобильные аптечки первой помощи. \n\n\n\nПрактическая часть проводится только на улице в теплое время года. Слушатели используют на тренировке оборудование собственного автомобиля при работе на нескольких “типичных” ДТП. \n\n\n\nЗапланированные результаты прохождения курса:\n\n\n\n\nнаучиться оказывать первую помощь при дорожно-транспортных происшествиях\, в ситуациях\, несущих угрозу жизни пострадавшего.\n\n\n\nизучить алгоритмы действий при обеспечении безопасности при ДТП;\n\n\n\nизучить юридические нормы и законы об оказании первой помощи в РФ при ДТП;\n\n\n\nнаучиться грамотно собирать аптечку первой помощи для автомобиля;\n\n\n\nнаучиться комплектовать снаряжение собственного автомобиля;\n\n\n\nознакомиться с необходимыми системами безопасности автомобиля и правилами использования активных и пассивных систем защиты:\n\n\n\nрассмотреть наиболее типичные травмы в ДТП и алгоритмы оказания помощи при их обнаружении.\n\n\n\n\nПрограмма курса соответствует требованиям Правил дорожного движения в части\, касающейся обучения водителей транспортных средств и пешеходов основам медицинской подготовки. \n\n\n\n\n\n \n\n\n\nИнструкторы курса: начальник учебного центра Яков Гинзбург (фельдшер\, спасатель 3 класса\, старший инструктор-методист по первой помощи)\, Анастасия Бубнова (врач\, спасатель\, старший инструктор-методист по первой помощи)\, Александр Абдукадыров (Спасатель\, инструктор по первой помощи) \n\n\n\n \n\n\n\nЧто бы записаться на этот курс заполните ниже форму записи \n\n\n\n\n  \n\n\n\n *Ваша фамилия на русском языке (обязательно)\n \n \n*Ваше Имя и Отчество (при наличии) на русском языке (обязательно)\n\n \n*Дата Вашего рождения в формате "день.месяц.год" (обязательно)\n\n \n *Ваш ДЕЙСТВУЮЩИЙ e-mail (обязательно) ВНИМАНИЕ!!! В связи с вступлением в силу Федерального закона от 31.07.2023 N 406-ФЗ "О внесении изменений в Федеральный закон "Об информации\, информационных технологиях и о защите информации" и Федеральный закон "О связи" регистрация с использованием иностранных почтовых сервисов (Gmal\, Yahoo и пр.) не возможна. Указывайте адрес электронной почты обслуживаемый Российским оператором (mail.ru\, yandex.ru и др.)\n \n \n *Ваш телефон в формате 7(***)***-**-**(обязательно)\n \n \n Адрес страницы в ВКонтакте (при наличии)\n \n \nКакого класса у Вас автомобиль?\nНет автомобиля (я пассажир)ЛегковойКросоверПолноприводныйПодготовленный к off-road\n \nМарка и номер Вашего автомобиля\n\n \nГотовы ли Вы во время практических упражненний взять с собой в автомобиль ещё одного "безлошадного" участника?\nНетДа\n \nЯ имею право на субсидию и хочу воспользоваться скидкой на оргвзнос (ВНИМАНИЕ! РАЗМЕР СКИДКИ НА ВЫЕЗДНЫЕ СЕМИНАРЫ УТОЧНЯЙТЕ У АДМИНИСТРАТОРА ЦЕНТРА!)\nПодробнее о субсидиях (скидках) в разделе сайта "Разное .... Скидки и субсидии"\nОплата оргвзноса заранее (предоплата)Есть подарочный сертификатЕсть скидочная карта или флаерПовторно прохожу курсыДонор кровиДонор костного мозгаЧлен добровольного спасательного отрядаВолонтер благотворительной организацийАттестованный Спасатель.РядомПочётный донор России" или "Почётный донор СССР"Действительный донор костного мозгаСотрудник (работник) оперативной службы\n \nЯ участвую в семинаре от ЮРИДИЧЕСКОГО лица и мне нужны документы для оплаты по безналичному расчёту.\nНетДа\n \n Дополнительная информация для администратора\n \n \nСогласие на обработку персональных данных\nЯ согласен с обработкой моих персональных данных в соответствии с Политикой конфиденциальности\n \nВЫ НЕ СМОЖЕТЕ ОТПРАВИТЬ ДАННЫЕ НЕ ДАВ СОГЛАСИЕ НА ИХ ОБРАБОТКУ\n      \n \n\n\n\n\n\n\nЧто бы не забыть о курсе Вы можете автоматически внести информацию о своей записи в свой календарь в Google Calendar\, Apple iCal или Microsoft Outlook нажав кнопку ниже \n\n\n\n\n\nМесто проведения: \n\n\n\n\n\nВНИМАНИЕ!Место проведения занятий может измениться! Точную информацию пришлёт администратор курса при оплате и подтверждении записи. \n\n\n\n#авто дтп #автодтп #дорога дтп #дтп город #дтп погибший #дтп пострадавший #дтп происшествие #дтп район #дтп улицадействия при дорожно-транспортном происшествии #как помочь при ДТП
URL:https://ucmchs.ru/event/pp-pri-dtp-13-06-2026/
LOCATION:Санкт-Петербург\, Санкт-Петербург\, 190000\, Российская Федерация
CATEGORIES:-,ПП при ДТП,Расписание занятий
ATTACH;FMTTYPE=image/png:https://ucmchs.ru/wp-content/uploads/2020/12/ДТП.png
ORGANIZER;CN="%D0%A3%D0%A6 %D0%9C%D0%B5%D0%B4%D0%B8%D1%86%D0%B8%D0%BD%D1%8B %D0%A7%D0%A1%D0%B8%D0%91%D0%96":MAILTO:mail@ucmchs.ru/
END:VEVENT
BEGIN:VEVENT
DTSTART;TZID=Europe/Moscow:20260614T110000
DTEND;TZID=Europe/Moscow:20260614T170000
DTSTAMP:20260425T013721
CREATED:20251109T144558Z
LAST-MODIFIED:20251120T215555Z
UID:33011-1781434800-1781456400@ucmchs.ru
SUMMARY:«Тренировка по первой помощи» 14 июня 2026 года
DESCRIPTION:Набор группы для участия в Тренировке по первой помощи  \n\n\n\n14 июня 2026 года \n\n\n\n\n\n\n\nОргвзнос для участия в тренировке составляет 4 000 рублей.  \n\n\n\nПри предоплате до 11.06.2026 орг.взнос составит всего 2 900 рублей \n\n\n\n*Специальная скидка для пары оргвзнос при предоплате будет всего 4 600 рублей за двоих \n\n\n\n\n \n\n\n\nВнимание! Тренировка пройдёт в Петербурге!!!В тренировке может принять участие любой желающий\, считающий себя в силах оказать первую помощь\, но мы рекомендуем перед прохождением тренировки  пройти Базовый курс оказания первой помощи \n\n\n\nВЫ ПРОСИЛИ БОЛЬШЕ ПРАКТИКИ? МЫ ЕЁ ВАМ ОРГАНИЗУЕМ!Тренировка по первой помощи – это мощный практический тренинг с использованием симуляционных технологий обучения. Это отработка навыков оказания первой помощи\, полученных на наших курсах в обстановке приближенной к реальным чрезвычайным ситуациям. Это незабываемый квест наполненный реальным смыслом. \n\n\n\n\nУчастие в тренировке возможно по двум дистанциям (уровням сложности): \n\n\n\nДистанция «Первая помощь» Этапы рассчитаны на знания людей прошедших Базовый курс оказания первой помощи\, например\, в нашем Учебном центре\, Красном кресте или других тренинговых центрах. Алгоритмы упражнений ограничены рамками приказа Минздрава №220н от 03.05.2024 года. \n\n\n\nДистанция «Первая помощь в отдаленных районах» Этапы рассчитаны на знания людей прошедших курс оказания первой помощи в отдаленных районах в Учебном центре или аналогичные курсы в других компаниях. На этапах этой дистанции можно отработать алгоритмы применения медикаментов. Эта дистанция для инструкторов\, медицинских работников\, студентов-медиков\, спасателей. \n\n\n\n\n\n\nЧто бы записаться на тренировку заполните ниже форму записи \n\n\n\n\n\n\n\n \n\n\n\n\n  \n\n\n\n*Укажите курсы которые вы уже проходили\nЯ не проходил курсов первой помощиБазовый курсПервая помощь в отдалённом районе ч.1Первая помощь в отдалённом районе ч.2Подготовка спасателя\n \n *Выберете по какой дистанции (уровню сложности) вы хотите пройти тренировку\nПервая помощьПервая помощь в отдалённых районах \n \n *Ваша фамилия на русском языке (обязательно)\n \n \n*Ваше Имя и Отчество (при наличии) на русском языке (обязательно)\n\n \n*Дата Вашего рождения в формате "день.месяц.год" (обязательно)\n\n \n *Ваш ДЕЙСТВУЮЩИЙ e-mail (обязательно) ВНИМАНИЕ!!! В связи с вступлением в силу Федерального закона от 31.07.2023 N 406-ФЗ "О внесении изменений в Федеральный закон "Об информации\, информационных технологиях и о защите информации" и Федеральный закон "О связи" регистрация с использованием иностранных почтовых сервисов (Gmal\, Yahoo и пр.) не возможна. Указывайте адрес электронной почты обслуживаемый Российским оператором (mail.ru\, yandex.ru и др.)\n \n \n *Ваш телефон в формате 7(***)***-**-**(обязательно)\n \n \n Адрес страницы в ВКонтакте (при наличии)\n \n \nЯ имею право на субсидию и хочу воспользоваться скидкой на оргвзнос\nПодробнее о субсидиях (скидках) в разделе сайта "Разное .... Скидки и субсидии"\nОплата оргвзноса заранее (предоплата)Есть подарочный сертификатЕсть скидочная карта или флаерПовторно прохожу курсыДонор кровиДонор костного мозгаЧлен добровольного спасательного отрядаВолонтер благотворительной организацийАттестованный Спасатель.РядомПочётный донор России" или "Почётный донор СССР"Действительный донор костного мозгаСотрудник (работник) оперативной службы\n \nЯ участвую в семинаре от ЮРИДИЧЕСКОГО лица и мне нужны документы для оплаты по безналичному расчёту.\nНетДа\n \n Дополнительная информация для администратора\n \n \nСогласие на обработку персональных данных\nЯ согласен с обработкой моих персональных данных в соответствии с Политикой конфиденциальности\n \nВЫ НЕ СМОЖЕТЕ ОТПРАВИТЬ ДАННЫЕ НЕ ДАВ СОГЛАСИЕ НА ИХ ОБРАБОТКУ\n      \n \n\n\n\n\n\n\n\n\n\n\nЧто бы не забыть о дате тренировки Вы можете автоматически внести информацию о своей записи в свой календарь в Google Calendar\, Apple iCal или Microsoft Outlook нажав кнопку ниже
URL:https://ucmchs.ru/event/trenirovka-14-06-2026/
LOCATION:Санкт-Петербург\, Санкт-Петербург\, 190000\, Российская Федерация
CATEGORIES:-,---
ATTACH;FMTTYPE=image/png:https://ucmchs.ru/wp-content/uploads/2021/01/Тренировка-по-ПП.png
ORGANIZER;CN="%D0%A3%D0%A6 %D0%9C%D0%B5%D0%B4%D0%B8%D1%86%D0%B8%D0%BD%D1%8B %D0%A7%D0%A1%D0%B8%D0%91%D0%96":MAILTO:mail@ucmchs.ru/
END:VEVENT
BEGIN:VEVENT
DTSTART;TZID=Europe/Moscow:20260614T110000
DTEND;TZID=Europe/Moscow:20260614T170000
DTSTAMP:20260425T013721
CREATED:20251109T152740Z
LAST-MODIFIED:20251120T212813Z
UID:33039-1781434800-1781456400@ucmchs.ru
SUMMARY:Курс «Пожарная безопасность» 14 июня 2026 года
DESCRIPTION:Набор группы для участия в Курсе «Пожарная безопасность» \n\n\n\n14 июня 2026 года \n\n\n\n\n\n\n\nОрг.взнос для участия в курсе составляет 5 200 рублей.  \n\n\n\nПри предоплате до 11.06.2026 орг.взнос составит всего 3 600 рублей \n\n\n\n\n \n\n\n\nВнимание! Курс «Пожарная безопасность» проходит на специально оборудованной учебной площадке!!! \n\n\n\n \n\n\n\n\nПриглашаем вас пройти наш специализированный курс пожарной безопасности\, включающий практические занятия по использованию огнетушителей и самоспасателей!  \n\n\n\n \n\n\n\nЧто включает курс? — Подробное изучение основ противопожарной защиты— Практическое освоение правильного обращения с огнетушителями разных типов— Обучение правильному применению современных самоспасательных устройств— Отработка действий в условиях повышенной опасности \n\n\n\nВы получите знания и навыки\, необходимые для быстрого реагирования в чрезвычайных ситуациях\, снизите риск возникновения пожаров и сможете эффективно действовать при пожаре. \n\n\n\nПрисоединяйтесь к нашему курсу и станьте частью команды профессионалов\, готовых обеспечить безопасность себя и окружающих! \n\n\n\nЗаписывайтесь прямо сейчас и пройдите обучение в комфортных условиях под руководством опытных инструкторов. \n\n\n\n\n\nЧто бы записаться на этот курс заполните ниже форму записи \n\n\n\n\n\n\n\n\n \n\n\n\n\n  \n\n\n\n *Ваша фамилия на русском языке (обязательно)\n \n \n*Ваше Имя и Отчество (при наличии) на русском языке (обязательно)\n\n \n*Дата Вашего рождения в формате "день.месяц.год" (обязательно)\n\n \n *Ваш ДЕЙСТВУЮЩИЙ e-mail (обязательно) ВНИМАНИЕ!!! В связи с вступлением в силу Федерального закона от 31.07.2023 N 406-ФЗ "О внесении изменений в Федеральный закон "Об информации\, информационных технологиях и о защите информации" и Федеральный закон "О связи" регистрация с использованием иностранных почтовых сервисов (Gmal\, Yahoo и пр.) не возможна. Указывайте адрес электронной почты обслуживаемый Российским оператором (mail.ru\, yandex.ru и др.)\n \n \n *Ваш телефон в формате 7(***)***-**-**(обязательно)\n \n \n Адрес страницы в ВКонтакте (при наличии)\n \n \nЯ имею право на субсидию и хочу воспользоваться скидкой на оргвзнос\nПодробнее о субсидиях (скидках) в разделе сайта "Разное .... Скидки и субсидии"\nОплата оргвзноса заранее (предоплата)Есть подарочный сертификатЕсть скидочная карта или флаерПовторно прохожу курсыДонор кровиДонор костного мозгаЧлен добровольного спасательного отрядаВолонтер благотворительной организацийАттестованный Спасатель.РядомПочётный донор России" или "Почётный донор СССР"Действительный донор костного мозгаСотрудник (работник) оперативной службы\n \nЯ участвую в семинаре от ЮРИДИЧЕСКОГО лица и мне нужны документы для оплаты по безналичному расчёту.\nНетДа\n \n Дополнительная информация для администратора\n \n \nСогласие на обработку персональных данных\nЯ согласен с обработкой моих персональных данных в соответствии с Политикой конфиденциальности\n \nВЫ НЕ СМОЖЕТЕ ОТПРАВИТЬ ДАННЫЕ НЕ ДАВ СОГЛАСИЕ НА ИХ ОБРАБОТКУ\n      \n \n\n\n\n\n\n\n\n\n\n\nЧто бы не забыть о дате курса Вы можете автоматически внести информацию о своей записи в свой календарь в Google Calendar\, Apple iCal или Microsoft Outlook нажав кнопку ниже
URL:https://ucmchs.ru/event/pojar-14-06-2026/
LOCATION:Санкт-Петербург\, Санкт-Петербург\, 190000\, Российская Федерация
CATEGORIES:-,---
ATTACH;FMTTYPE=image/png:https://ucmchs.ru/wp-content/uploads/2021/02/2021-Логотип-для-сайта-800х445-Пожарная-безопасность.png
ORGANIZER;CN="%D0%A3%D0%A6 %D0%9C%D0%B5%D0%B4%D0%B8%D1%86%D0%B8%D0%BD%D1%8B %D0%A7%D0%A1%D0%B8%D0%91%D0%96":MAILTO:mail@ucmchs.ru/
END:VEVENT
END:VCALENDAR