BEGIN:VCALENDAR
VERSION:2.0
PRODID:-//УЦМЧС.РФ - ECPv6.15.11//NONSGML v1.0//EN
CALSCALE:GREGORIAN
METHOD:PUBLISH
X-ORIGINAL-URL:https://ucmchs.ru
X-WR-CALDESC:Мероприятия для УЦМЧС.РФ
REFRESH-INTERVAL;VALUE=DURATION:PT1H
X-Robots-Tag:noindex
X-PUBLISHED-TTL:PT1H
BEGIN:VTIMEZONE
TZID:Europe/Moscow
BEGIN:STANDARD
TZOFFSETFROM:+0300
TZOFFSETTO:+0300
TZNAME:MSK
DTSTART:20250101T000000
END:STANDARD
END:VTIMEZONE
BEGIN:VEVENT
DTSTART;TZID=Europe/Moscow:20260627T110000
DTEND;TZID=Europe/Moscow:20260628T210000
DTSTAMP:20260425T013618
CREATED:20251108T182249Z
LAST-MODIFIED:20251120T210446Z
UID:32784-1782558000-1782680400@ucmchs.ru
SUMMARY:«Базовый» курс оказания первой помощи 27-28 июня 2026г.
DESCRIPTION:Набор учебной группы для прохождения курса  «Базовый»  \n\n\n\n27-28 июня 2026г. \n\n\n\n\n\n\nОргвзнос для участия в семинаре составляет 6900 рублей.  \n\n\n\nПри предоплате до 24.06.2026 орг.взнос составит всего 4 800 рублей \n\n\n\n\n \n\n\n\nБазовый курс — это начальный и основной курс обучения оказанию первой помощи пострадавшим на месте происшествия до прибытия оперативных служб. Именно он дает основные знания алгоритмов оказания помощи\, которые позволяют уверенно действовать в критической ситуации. Благодаря четкому знанию алгоритма действий\, у слушателя — обычного человека\, появляются знания и умения оказать помощь пострадавшему до прибытия скорой помощи. Базовый курс является основой для прохождения дальнейшего обучения и посещения спецкурсов в Санкт-Петербургском учебном центре медицины ЧСиБЖ.При успешном окончании курса\, выдаются сертификаты Установленного образца.Так же возможно прохождение итоговой аттестации и оформления Удостоверений установленного образца. \n\n\n\n\n\nПрограмма соответствует требованиям Российского законодательства\, рекомендациям Международного общества Красного креста и Красного полумесяца; В программе учтены алгоритмы системы обучения EFR (Emergency First Response) Primary Care – CPR (первичная неотложная помощь – сердечно-легочная реанимация)\, рекомендаций Европейского совета по реанимации (ERC)\, но\, при этом\, обучение ведется по актуальными алгоритмам оказания первой помощи и проведения СЛР\, действующим в Российской Федерации и рекомендованным Российским национальным советом по реанимации\, Минздравом РФ\, Российским обществом первой помощи. \n\n\n\nИнструкторы курса: Аттестованные спасатели\, действующие пожарные\, практикующие врачи\, сотрудники станций скорой медицинской помощи – те\, кто на практике знает о важности своевременного и грамотного оказания помощи пострадавшим. \n\n\n\n \n\n\n\nМесто проведения: \n\n\n\n\n\nМесто проведения занятий может измениться! Точную информацию пришлёт администратор курса при оплате и подтверждении записи. \n\n\n\nЧто бы записаться на этот курс заполните ниже форму записи \n\n\n\n\n  \n\n\n\n *Ваша фамилия на русском языке (обязательно)\n \n \n*Ваше Имя и Отчество (при наличии) на русском языке (обязательно)\n\n \n*Ваша Фамилия на английском языке (транслитерация так же как написано на банковской карте/загранпаспорте/водительском удостоверении) (обязательно)\n\n \n*Ваше Имя на английском языке (транслитерация так же как написано на банковской карте/загранпаспорте/водительском удостоверении) (обязательно)\n\n \n*Дата Вашего рождения в формате "день.месяц.год" (обязательно)\n\n \n *Ваш ДЕЙСТВУЮЩИЙ e-mail (обязательно) ВНИМАНИЕ!!! В связи с вступлением в силу Федерального закона от 31.07.2023 N 406-ФЗ "О внесении изменений в Федеральный закон "Об информации\, информационных технологиях и о защите информации" и Федеральный закон "О связи" регистрация с использованием иностранных почтовых сервисов (Gmal\, Yahoo и пр.) не возможна. Указывайте адрес электронной почты обслуживаемый Российским оператором (mail.ru\, yandex.ru и др.)\n \n \n *Ваш телефон в формате 7(***)***-**-**(обязательно)\n \n \n Адрес страницы в ВКонтакте (при наличии)\n \n \nМне для работодателя требуется документ о прохождении программы обучения и итоговой аттестации "Приёмы оказания первой помощи пострадавшим на производстве" в порядке\, установленном Правилами оказания платных образовательных услуг (утв. Постановлением Правительства РФ от 15 августа 2013 г. №706)\, копия протокола заседания аттестационной комиссии и копия лицензии на образовательную деятельность.\nПрошу добавить стоимость аттестации (1 000р.) к сумме оргвзноса.\nНетДа (+1 000р.)\n \nЯ имею право на субсидию и хочу воспользоваться скидкой на оргвзнос\nПодробнее о субсидиях (скидках) в разделе сайта "Разное .... Скидки и субсидии"\nОплата оргвзноса заранее (предоплата)Есть подарочный сертификатЕсть скидочная карта или флаерПовторно прохожу курсыДонор кровиДонор костного мозгаЧлен добровольного спасательного отрядаВолонтер благотворительной организацийПочётный донор России" или "Почётный донор СССР"Действительный донор костного мозгаСотрудник (работник) оперативной службы\n \nЯ участвую в семинаре от ЮРИДИЧЕСКОГО лица и мне нужны документы для оплаты по безналичному расчёту.\nНетДа\n \n Дополнительная информация для администратора\n \n \nСогласие на обработку персональных данных\nЯ согласен с обработкой моих персональных данных в соответствии с Политикой конфиденциальности\n \nВЫ НЕ СМОЖЕТЕ ОТПРАВИТЬ ДАННЫЕ НЕ ДАВ СОГЛАСИЕ НА ИХ ОБРАБОТКУ\n      \n \n\n \n\n\n\n\n\n\nЧто бы не забыть о курсе Вы можете автоматически внести информацию о своей записи в свой календарь в Google Calendar\, Apple iCal или Microsoft Outlook нажав кнопку ниже
URL:https://ucmchs.ru/event/bazovyj-27-06-2026/
LOCATION:Конференц-центр «Игры разума»\, ул. Достоевского 19/21\, лит. Б.\, Санкт-Петербург\, Российская Федерация
CATEGORIES:-,Базовый курс
ATTACH;FMTTYPE=image/png:https://ucmchs.ru/wp-content/uploads/2020/12/Базовый.png
ORGANIZER;CN="%D0%A3%D0%A6 %D0%9C%D0%B5%D0%B4%D0%B8%D1%86%D0%B8%D0%BD%D1%8B %D0%A7%D0%A1%D0%B8%D0%91%D0%96":MAILTO:mail@ucmchs.ru/
END:VEVENT
BEGIN:VEVENT
DTSTART;TZID=Europe/Moscow:20260628T110000
DTEND;TZID=Europe/Moscow:20260628T190000
DTSTAMP:20260425T013618
CREATED:20251109T085314Z
LAST-MODIFIED:20251120T214146Z
UID:32959-1782644400-1782673200@ucmchs.ru
SUMMARY:Первая помощь в отдалённом районе часть-2 28 июня 2026г.
DESCRIPTION:Набор учебной группы для прохождения спецкурса «Первая помощь в отдалённом районе часть ВТОРАЯ»  \n\n\n\n28 июня 2026г. \n\n\n\n\n\n\nОргвзнос для участия в семинаре составляет 5 600 рублей.  \n\n\n\nПри предоплате до 25.06.2026 орг.взнос составит всего 3 900 рублей \n\n\n\n\nВНИМАНИЕ! К прохождению курса допускаются только слушатели\, успешно прошедшие курсы «Базовый» и «Первая помощь в отдалённом районе часть первая» в нашем учебном центре или аналогичный курс в других учебных заведениях. \n\n\n\n«Спецкурс часть вторая» — это продолжение первой части спецкурса. На этом спецкурсе рассматриваются вопросы оказания помощи пострадавшим при отсроченности медицинской помощи более 12 часов\, или прибытие специалистов на место происшествия невозможно в принципе – это различные походы\, путешествия\, экспедиции в труднодоступные\, малонаселенные местности\, спелео и горный туризм. То есть места\, в которых непредвиденные ситуации могут привести к серьёзным проблемам со здоровья. \n\n\n\nАвторы и ведущие курса: Яков Гинзбург — начальник учебного центра\, фельдшер\, спасатель\, инструктор и Анастасия Бубнова – практикующий врач\, педиатр\, аттестованный спасатель\, имеющий практический опыт оказания помощи пострадавшим в чрезвычайных ситуациях.Инструкторы курса: специалисты\, имеющие обязательный практический опыт оказания помощи пострадавшим в чрезвычайных ситуациях – действующие аттестованные спасатели и медики оперативных служб Санкт-Петербурга\, инструкторы по спортивному туризму \n\n\n\nПрограмма курса соответствует требованиям Российского туристического союза\, предъявляемых к инструктору- проводнику в части\, касающейся обучения инструкторов основам медицинской подготовки. \n\n\n\n\n\nЧто бы записаться на этот курс заполните ниже форму записи \n\n\n\n\n  \n\n\n\n *Ваша фамилия на русском языке (обязательно)\n \n \n*Ваше Имя и Отчество (при наличии) на русском языке (обязательно)\n\n \n*Ваша Фамилия на английском языке (транслитерация так же как написано на банковской карте/загранпаспорте/водительском удостоверении) (обязательно)\n\n \n*Ваше Имя на английском языке (транслитерация так же как написано на банковской карте/загранпаспорте/водительском удостоверении) (обязательно)\n\n \n*Дата Вашего рождения в формате "день.месяц.год" (обязательно)\n\n \n *Ваш ДЕЙСТВУЮЩИЙ e-mail (обязательно) ВНИМАНИЕ!!! В связи с вступлением в силу Федерального закона от 31.07.2023 N 406-ФЗ "О внесении изменений в Федеральный закон "Об информации\, информационных технологиях и о защите информации" и Федеральный закон "О связи" регистрация с использованием иностранных почтовых сервисов (Gmal\, Yahoo и пр.) не возможна. Указывайте адрес электронной почты обслуживаемый Российским оператором (mail.ru\, yandex.ru и др.)\n \n \n *Ваш телефон в формате 7(***)***-**-**(обязательно)\n \n \n Адрес страницы в ВКонтакте (при наличии)\n \n \nМне для работодателя требуется документ о прохождении программы обучения и итоговой аттестации "Санинструктор" в порядке\, установленном Правилами оказания платных образовательных услуг (утв. Постановлением Правительства РФ от 15 августа 2013 г. №706)\, копия протокола заседания аттестационной комиссии и копия лицензии на образовательную деятельность.\nПрошу добавить стоимость аттестации (5 000р.) к сумме оргвзноса.\nНетДа (+5 000р.)\n \nЯ имею право на субсидию и хочу воспользоваться скидкой на оргвзнос\nПодробнее о субсидиях (скидках) в разделе сайта "Разное .... Скидки и субсидии"\nОплата оргвзноса заранее (предоплата)Есть подарочный сертификатЕсть скидочная карта или флаерПовторно прохожу курсыДонор кровиДонор костного мозгаЧлен добровольного спасательного отрядаВолонтер благотворительной организацийАттестованный Спасатель.РядомПочётный донор России" или "Почётный донор СССР"Действительный донор костного мозгаСотрудник (работник) оперативной службы\n \nЯ участвую в семинаре от ЮРИДИЧЕСКОГО лица и мне нужны документы для оплаты по безналичному расчёту.\nНетДа\n \n Дополнительная информация для администратора\n \n \nСогласие на обработку персональных данных\nЯ согласен с обработкой моих персональных данных в соответствии с Политикой конфиденциальности\n \nВЫ НЕ СМОЖЕТЕ ОТПРАВИТЬ ДАННЫЕ НЕ ДАВ СОГЛАСИЕ НА ИХ ОБРАБОТКУ\n      \n \n\n\n\n\n\n\nЧто бы не забыть о курсе Вы можете автоматически внести информацию о своей записи в свой календарь в Google Calendar\, Apple iCal или Microsoft Outlook нажав кнопку ниже
URL:https://ucmchs.ru/event/ppvor-2-28-06-2026/
LOCATION:Санкт-Петербург\, Санкт-Петербург\, 190000\, Российская Федерация
CATEGORIES:-,--2
ATTACH;FMTTYPE=image/png:https://ucmchs.ru/wp-content/uploads/2020/12/ППвОР-2.png
ORGANIZER;CN="%D0%A3%D0%A6 %D0%9C%D0%B5%D0%B4%D0%B8%D1%86%D0%B8%D0%BD%D1%8B %D0%A7%D0%A1%D0%B8%D0%91%D0%96":MAILTO:mail@ucmchs.ru/
END:VEVENT
END:VCALENDAR