BEGIN:VCALENDAR
VERSION:2.0
PRODID:-//УЦМЧС.РФ - ECPv6.15.11//NONSGML v1.0//EN
CALSCALE:GREGORIAN
METHOD:PUBLISH
X-ORIGINAL-URL:https://ucmchs.ru
X-WR-CALDESC:Мероприятия для УЦМЧС.РФ
REFRESH-INTERVAL;VALUE=DURATION:PT1H
X-Robots-Tag:noindex
X-PUBLISHED-TTL:PT1H
BEGIN:VTIMEZONE
TZID:Europe/Moscow
BEGIN:STANDARD
TZOFFSETFROM:+0300
TZOFFSETTO:+0300
TZNAME:MSK
DTSTART:20250101T000000
END:STANDARD
END:VTIMEZONE
BEGIN:VEVENT
DTSTART;TZID=Europe/Moscow:20260516T110000
DTEND;TZID=Europe/Moscow:20260517T210000
DTSTAMP:20260425T013921
CREATED:20251109T075224Z
LAST-MODIFIED:20260423T192214Z
UID:34258-1778929200-1779051600@ucmchs.ru
SUMMARY:Спецкурс «Первая помощь в отдалённом районе ч.1» 16-17 мая 2026г.
DESCRIPTION:Набор учебной группы для прохождения спецкурса «Первая помощь в отдалённом районе часть ПЕРВАЯ»  \n\n\n\n16-17 мая 2026г. \n\n\n\n\n\n\nОргвзнос для участия в семинаре составляет 7 400 рублей.  \n\n\n\nПри предоплате до 13.05.2026г. орвзнос составит всего 5 100 рублей \n\n\n\n\nВНИМАНИЕ! К прохождению курса допускаются только слушатели\, успешно прошедшие курсы «Базовый» в нашем учебном центре или аналогичный курс в других учебных заведениях. \n\n\n\n«Спецкурс часть первая» является продолжением «Базового» курса первой помощи — для тех\, кто уже владеет алгоритмом и навыками оказания первой помощи в городских условиях. Курс будет полезен спортивным туристам\, парашютистам\, парапланеристам\, яхтсменам\, лыжникам\, инструкторам по туризму\, скалолазам и альпинистам\, участникам экспедиций и вахт. Спецкурс разработан специально для людей\, которые часто оказываются вдали от медицинской помощи и могут рассчитывать только на свои силы и знания. \n\n\n\nВ ходе обучения к уже имеющимся знаниям\, полученным на «Базовом» курсе\, добавляется информация об алгоритмах действий при обострении наиболее часто встречающихся хронических заболеваний. Разбирается вопрос комплектования походной аптечки\, показания\, дозировка и использование имеющихся в ней медикаментов. Рассказывается\, что делать при травмах и заболеваниях в течении ближайших 8-12 часов. В каких случаях можно попробовать справиться с проблемой своими силами\, а когда необходима срочная эвакуация в лечебное учреждение или вызов спасателей на место происшествия. Освещаются вопросы вызова помощи в отдалённый район\, возможности санитарной авиа-эвакуации (транспортировки пострадавшего с помощью вертолёта) и другие особенности оказания экстренной помощи в отдалённом районе. \n\n\n\nПрограмма курса соответствует требованиям Российского туристического союза\, предъявляемых к инструктору- проводнику в части\, касающейся обучения инструкторов основам медицинской подготовки. \n\n\n\n\n\nАвторы и инструкторы курса: начальник учебного центра Яков Гинзбург (фельдшер\, спасатель 3 класса\, старший инструктор-методист по первой помощи)\, Анастасия Бубнова (врач\, спасатель 3 класса\, старший инструктор-методист по первой помощи) \n\n\n\nЧто бы записаться на этот курс заполните ниже форму записи \n\n\n\n\n  \n\n\n\n *Ваша фамилия на русском языке (обязательно)\n \n \n*Ваше Имя и Отчество (при наличии) на русском языке (обязательно)\n\n \n*Ваша Фамилия на английском языке (транслитерация так же как написано на банковской карте/загранпаспорте/водительском удостоверении) (обязательно)\n\n \n*Ваше Имя на английском языке (транслитерация так же как написано на банковской карте/загранпаспорте/водительском удостоверении) (обязательно)\n\n \n*Дата Вашего рождения в формате "день.месяц.год" (обязательно)\n\n \n *Ваш ДЕЙСТВУЮЩИЙ e-mail (обязательно) ВНИМАНИЕ!!! В связи с вступлением в силу Федерального закона от 31.07.2023 N 406-ФЗ "О внесении изменений в Федеральный закон "Об информации\, информационных технологиях и о защите информации" и Федеральный закон "О связи" регистрация с использованием иностранных почтовых сервисов (Gmal\, Yahoo и пр.) не возможна. Указывайте адрес электронной почты обслуживаемый Российским оператором (mail.ru\, yandex.ru и др.)\n \n \n *Ваш телефон в формате 7(***)***-**-**(обязательно)\n \n \n Адрес страницы в ВКонтакте (при наличии)\n \n \nМне для работодателя требуется документ о прохождении программы обучения и итоговой аттестации "Санинструктор" в порядке\, установленном Правилами оказания платных образовательных услуг (утв. Постановлением Правительства РФ от 15 августа 2013 г. №706)\, копия протокола заседания аттестационной комиссии и копия лицензии на образовательную деятельность.\nПрошу добавить стоимость аттестации (5 000р.) к сумме оргвзноса.\nНетДа (+5 000р.)\n \nЯ имею право на субсидию и хочу воспользоваться скидкой на оргвзнос\nПодробнее о субсидиях (скидках) в разделе сайта "Разное .... Скидки и субсидии"\nОплата оргвзноса заранее (предоплата)Есть подарочный сертификатЕсть скидочная карта или флаерПовторно прохожу курсыДонор кровиДонор костного мозгаЧлен добровольного спасательного отрядаВолонтер благотворительной организацийАттестованный Спасатель.РядомПочётный донор России" или "Почётный донор СССР"Действительный донор костного мозгаСотрудник (работник) оперативной службы\n \nЯ участвую в семинаре от ЮРИДИЧЕСКОГО лица и мне нужны документы для оплаты по безналичному расчёту.\nНетДа\n \n Дополнительная информация для администратора\n \n \nСогласие на обработку персональных данных\nЯ согласен с обработкой моих персональных данных в соответствии с Политикой конфиденциальности\n \nВЫ НЕ СМОЖЕТЕ ОТПРАВИТЬ ДАННЫЕ НЕ ДАВ СОГЛАСИЕ НА ИХ ОБРАБОТКУ\n      \n \n\n\n\n\n\n\nЧто бы не забыть о курсе Вы можете автоматически внести информацию о своей записи в свой календарь в Google Calendar\, Apple iCal или Microsoft Outlook нажав кнопку ниже
URL:https://ucmchs.ru/event/ppvor-1-16-05-2026/
LOCATION:Санкт-Петербург\, Санкт-Петербург\, 190000\, Российская Федерация
CATEGORIES:-,--1
ATTACH;FMTTYPE=image/png:https://ucmchs.ru/wp-content/uploads/2020/12/ППвОР-1.png
ORGANIZER;CN="%D0%A3%D0%A6 %D0%9C%D0%B5%D0%B4%D0%B8%D1%86%D0%B8%D0%BD%D1%8B %D0%A7%D0%A1%D0%B8%D0%91%D0%96":MAILTO:mail@ucmchs.ru/
END:VEVENT
END:VCALENDAR