BEGIN:VCALENDAR
VERSION:2.0
PRODID:-//УЦМЧС.РФ - ECPv6.15.11//NONSGML v1.0//EN
CALSCALE:GREGORIAN
METHOD:PUBLISH
X-ORIGINAL-URL:https://ucmchs.ru
X-WR-CALDESC:Мероприятия для УЦМЧС.РФ
REFRESH-INTERVAL;VALUE=DURATION:PT1H
X-Robots-Tag:noindex
X-PUBLISHED-TTL:PT1H
BEGIN:VTIMEZONE
TZID:Europe/Moscow
BEGIN:STANDARD
TZOFFSETFROM:+0300
TZOFFSETTO:+0300
TZNAME:MSK
DTSTART:20250101T000000
END:STANDARD
END:VTIMEZONE
BEGIN:VEVENT
DTSTART;TZID=Europe/Moscow:20260912T163000
DTEND;TZID=Europe/Moscow:20260913T153000
DTSTAMP:20260425T132834
CREATED:20251108T203506Z
LAST-MODIFIED:20260117T234429Z
UID:32863-1789230600-1789313400@ucmchs.ru
SUMMARY:Курс «Радиосвязь» 12-13 сентября 2026г.
DESCRIPTION:Набор учебной группы для прохождения курса  «Радиосвязь»    \n\n\n\n12-13 сентября 2026г. \n\n\n\n\n\n\nСеминар проводится на средства от пожертвования участников \n\n\n\nОргвзнос для участия в семинаре составляет 4 400 рублей.  \n\n\n\nПри предоплате до 09.09.2026 орвзнос составит всего 3 100 рублей \n\n\n\n\n\n*При одновременном прохождении курсов «Навигация» и «Радиосвязь» 12-13 сентября 2026 года сумма оргвзноса при предоплате составит 5 000 рублей за оба курса. \n\n\n\n\n!!! ВНИМАНИЕ!!! Бронирование места в группе осуществляется после оплаты оргвзноса !!! \n\n\n\n\n\nРасписание курса:12 сентября с 16.30 до 21.00 — теоретическая часть13 сентября с 11.00 до 15.30 — практическая часть \n\n\n\nПредлагаем Вашему вниманию один из нестандартных курсов нашего Учебного центра. Да\, он не содержит информации о первой помощи\, медицине и спасении напрямую\, но\, с другой стороны\, именно радиосвязь\, а также умение грамотно пользоваться оборудованием и эфиром может оказать решающее значение для  прибытия помощи и эвакуации пострадавшего при возникновении  такой необходимости. \n\n\n\nКурс будет интересен и полезен \n\n\n\n\nтуристам и путешественникам тем\, кто часто ходит в горы и различные пешие и водные походы (тем\, кто знает\, какого оно остаться без связи в путешествии)\n\n\n\nлюбителям охоты и рыбалки в глухих местах\n\n\n\nспасателям и участникам экспедиций.\n\n\n\nстрайк- и пейнтболистам\n\n\n\nтем\, кто не знает\, где можно приобрести рации и на какой из них остановить свой выбор\n\n\n\nпродавцам раций\n\n\n\nтем\, кто не умеет настраивать свои рации\, но хочет научиться (включая запись каналов и настройку субтона)\n\n\n\nначинающим радиолюбителям\n\n\n\nадминистраторам ресторанов\n\n\n\nвсем\, кто не сидит дома\, предпочитая активный образ жизни.\n\n\n\n\nВо время этого семинара вы найдёте ответы на следующие вопросы: \n\n\n\n\nКакие бывают виды радиосвязи. Гражданская и специальная радиосвязь.\n\n\n\nКакие рации удобнее использовать за городом/ на охоте/ на рыбалке/ в турпоходе/ в горах/ на поисково-спасательных работах?\n\n\n\nКакую рацию выбрать? Типы раций. Основные технические характеристики популярных раций. Ценовой диапазон\, бренды. Модельный ряд радиостанций.\n\n\n\nКак пользоваться радиостанцией? Как включить / Куда нажимать?\n\n\n\nКак проверить работоспособность радиостанции?\n\n\n\nКак самостоятельно наладить радиосвязь на несколько радио абонентов?\n\n\n\nКак правильно общаться по радиостанции\, что бы не было «бардака в эфире»?\n\n\n\nИзучите основные функции меню популярных раций\, потренируетесь в настройке раций и установлении радиосвязи\n\n\n\n\nАвтор и ведущий инструктор курса: Инструктор\, спасатель\, опытный радиолюбитель — Евгений Аристархов \n\n\n\nP.S. Если у вас уже есть радиостанция\, то рекомендуем её взять с собой\, что бы прежде всего научиться работать со своим оборудованием. \n\n\n\nЧто бы записаться на этот курс заполните ниже форму записи \n\n\n\n\n  \n\n\n\n *Ваша фамилия на русском языке (обязательно)\n \n \n*Ваше Имя и Отчество (при наличии) на русском языке (обязательно)\n\n \n*Дата Вашего рождения в формате "день.месяц.год" (обязательно)\n\n \n *Ваш ДЕЙСТВУЮЩИЙ e-mail (обязательно) ВНИМАНИЕ!!! В связи с вступлением в силу Федерального закона от 31.07.2023 N 406-ФЗ "О внесении изменений в Федеральный закон "Об информации\, информационных технологиях и о защите информации" и Федеральный закон "О связи" регистрация с использованием иностранных почтовых сервисов (Gmal\, Yahoo и пр.) не возможна. Указывайте адрес электронной почты обслуживаемый Российским оператором (mail.ru\, yandex.ru и др.)\n \n \n *Ваш телефон в формате 7(***)***-**-**(обязательно)\n \n \n Адрес страницы в ВКонтакте (при наличии)\n \n \nЯ имею право на субсидию и хочу воспользоваться скидкой на оргвзнос\nПодробнее о субсидиях (скидках) в разделе сайта "Разное .... Скидки и субсидии"\nОплата оргвзноса заранее (предоплата)Есть подарочный сертификатЕсть скидочная карта или флаерПовторно прохожу курсыДонор кровиДонор костного мозгаЧлен добровольного спасательного отрядаВолонтер благотворительной организацийАттестованный Спасатель.РядомПочётный донор России" или "Почётный донор СССР"Действительный донор костного мозгаСотрудник (работник) оперативной службы\n \nЕсть ли у Вас личная рация?\nДа\, есть личная рацияЛичной рации нет\, но есть служебнаяНет рации\n \nЯ участвую в семинаре от ЮРИДИЧЕСКОГО лица и мне нужны документы для оплаты по безналичному расчёту.\nНетДа\n \n Дополнительная информация для администратора\n \n \nСогласие на обработку персональных данных\nЯ согласен с обработкой моих персональных данных в соответствии с Политикой конфиденциальности\n \nВЫ НЕ СМОЖЕТЕ ОТПРАВИТЬ ДАННЫЕ НЕ ДАВ СОГЛАСИЕ НА ИХ ОБРАБОТКУ\n      \n \n\n\n\n\n\n\nЧто бы не забыть о курсе Вы можете автоматически внести информацию о своей записи в свой календарь в Google Calendar\, Apple iCal или Microsoft Outlook нажав кнопку ниже \n\n\n\n\n\nМесто проведения занятий может измениться! Точную информацию пришлёт администратор курса при оплате и подтверждении записи.
URL:https://ucmchs.ru/event/radiosvyaz-12-09-2026/
LOCATION:Санкт-Петербург\, Санкт-Петербург\, 190000\, Российская Федерация
CATEGORIES:-,Курс "Радиосвязь"
ATTACH;FMTTYPE=image/png:https://ucmchs.ru/wp-content/uploads/2020/12/Радиосвязь-1.png
ORGANIZER;CN="%D0%A3%D0%A6 %D0%9C%D0%B5%D0%B4%D0%B8%D1%86%D0%B8%D0%BD%D1%8B %D0%A7%D0%A1%D0%B8%D0%91%D0%96":MAILTO:mail@ucmchs.ru/
END:VEVENT
END:VCALENDAR