BEGIN:VCALENDAR
VERSION:2.0
PRODID:-//УЦМЧС.РФ - ECPv6.15.11//NONSGML v1.0//EN
CALSCALE:GREGORIAN
METHOD:PUBLISH
X-ORIGINAL-URL:https://ucmchs.ru
X-WR-CALDESC:Мероприятия для УЦМЧС.РФ
REFRESH-INTERVAL;VALUE=DURATION:PT1H
X-Robots-Tag:noindex
X-PUBLISHED-TTL:PT1H
BEGIN:VTIMEZONE
TZID:Europe/Moscow
BEGIN:STANDARD
TZOFFSETFROM:+0300
TZOFFSETTO:+0300
TZNAME:MSK
DTSTART:20210101T000000
END:STANDARD
END:VTIMEZONE
BEGIN:VEVENT
DTSTART;TZID=Europe/Moscow:20220410T100000
DTEND;TZID=Europe/Moscow:20220410T190000
DTSTAMP:20260424T210606
CREATED:20211120T154500Z
LAST-MODIFIED:20220407T000655Z
UID:10477-1649584800-1649617200@ucmchs.ru
SUMMARY:Специальный курс "Спасение на воде" 10 апреля 2022 года
DESCRIPTION:Набор учебной группы для прохождения специального курса  «Спасение на воде»  \n\n\n\n10 апреля 2022 года \n\n\n\n\nЗапись на это мероприятие закончена! Вы можете записаться на следующий такой же тренинг в разделе «Расписание и запись»Ближайший Курс «Спасение на воде» пройдёт 10 мая 2022г. Запись по этой ссылке  \n\n\n\n\nОргвзнос для участия в семинаре составляет 4 000 рублей.  \n\n\n\nПри предоплате до 06.04.2022 орвзнос составит всего 3 000 рублей  \n\n\n\n\n\n\n\n\n\nВНИМАНИЕ!  \n\n\n\nПеред прохождением курса «Спасение на воде» желательно пройти Базовый курс оказания первой помощи \n\n\n\n\n\n\n\n\nЦелевая аудитория:\n\n\n\nКурс необходим спасателям\, работающим в аквапарках\, яхтсменам\, аквалангистам\, дайверам\, тренерам фитнес клубов и бассейнов\, рыбакам\, туристам \n\n\n\nЗапланированные результаты прохождения курса:\n\n\n\nнаучиться оказывать помощь при типичных для утопления травмах и состояния пострадавших\,ознакомиться со специфическими алгоритмами обеспечения безопасности и помощи при спасении утопающего человекапознакомиться с особенностями спасения в зимнее время года на водоемах\, при попадании человека в полыньюнаучиться работать с пострадавшими\, доставленными на берег – особенности сердечно-лёгочной реанимации при утоплении\, борьба с переохлаждением\, типичные травмы «ныряльщиков»\, баротравмы;изучить тему обеспечения безопасности спасателя;отработать спасение человека с использованием плавсредств: спасательного круга\, спасательного линя;проработать приемы буксировки пострадавшего\, таких как\, буксировка за голову\, буксировка с захватом под подмышки\, буксировка с захватом под руку\, буксировка с захватом выше локтей;отработать приёмы освобождения спасателя от захватов утопающим за кисти рук; освобождение от захватов за шею спереди; за шею сзади; за туловище под руки; за ноги.\n\n\n\nПрактическая часть:\n\n\n\nПроводится в бассейне или на открытом водоёме в зависимости от времени года \n\n\n\n\n\n \n\n\n\nПрограмма соответствует требованиям Российского законодательства\, рекомендациям Международного общества Красного креста и Красного полумесяца; В программе учтены алгоритмы системы обучения EFR (Emergency First Response); Primary Care – CPR (первичная неотложная помощь – сердечно-легочная реанимация). \n\n\n\nАвторы и ведущие инструкторы курса: действующие инструктора EFR (Emergency First Response Instructor); специалисты\, имеющие большой практический опыт оказания помощи пострадавшим в чрезвычайных ситуациях – действующие аттестованные спасатели. Спасатель 1-го класса\, сотрудник поисково-спасательной службы Санкт-Петербурга Ильдар Саволайнен\, Спасатель 1-го класса\, сотрудник поисково-спасательной службы Санкт-Петербурга Михаил Шутов и спасатель\, инструктор по первой помощи\, Роман Морозов. \n\n\n\nЧто бы записаться на этот курс заполните ниже форму записи \n\n\n\nЗапись на это мероприятие закончена! Вы можете записаться на следующий такой же тренинг в разделе «Расписание и запись»Ближайший Курс «Спасение на воде» пройдёт 10 мая 2022г. Запись по этой ссылке  \n\n\n\nЧто бы не забыть о курсе Вы можете автоматически внести информацию о своей записи в свой календарь в Google Calendar\, Apple iCal или Microsoft Outlook нажав кнопку ниже
URL:https://ucmchs.ru/event/spasenie-na-vode-10-04-2022/
LOCATION:Бассейн «Волна»\, Московский проспект д. 150 лит. "Б"\, Санкт-Петербург
CATEGORIES:Курс "Спасение на воде",Расписание занятий
ATTACH;FMTTYPE=image/png:https://ucmchs.ru/wp-content/uploads/2021/02/2021-Логотип-для-сайта-800х445-Спасение-на-воде-1.png
ORGANIZER;CN="%D0%A3%D0%A6 %D0%9C%D0%B5%D0%B4%D0%B8%D1%86%D0%B8%D0%BD%D1%8B %D0%A7%D0%A1%D0%B8%D0%91%D0%96":MAILTO:mail@ucmchs.ru/
END:VEVENT
BEGIN:VEVENT
DTSTART;TZID=Europe/Moscow:20220213T100000
DTEND;TZID=Europe/Moscow:20220213T190000
DTSTAMP:20260424T210607
CREATED:20211120T154500Z
LAST-MODIFIED:20220211T112649Z
UID:10480-1644746400-1644778800@ucmchs.ru
SUMMARY:Специальный курс "Спасение на воде" 13 февраля 2022 года
DESCRIPTION:Набор учебной группы для прохождения специального курса  «Спасение на воде»  \n\n\n\n13 февраля 2022 года \n\n\n\n\nЗапись на это мероприятие закончена! Вы можете записаться на следующий такой же тренинг в разделе «Расписание и запись»Ближайший Специальный курс «Спасение на воде» пройдёт 10 апреля 2022г. Запись по этой ссылке  \n\n\n\n\nОргвзнос для участия в семинаре составляет 4 000 рублей.  \n\n\n\nПри предоплате до 09.02.2022 орвзнос составит всего 3 000 рублей  \n\n\n\n\n\n\n\n\n\nВНИМАНИЕ!  \n\n\n\nПеред прохождением курса «Спасение на воде» желательно пройти Базовый курс оказания первой помощи \n\n\n\n\n\n\n\n\nЦелевая аудитория:\n\n\n\nКурс необходим спасателям\, работающим в аквапарках\, яхтсменам\, аквалангистам\, дайверам\, тренерам фитнес клубов и бассейнов\, рыбакам\, туристам \n\n\n\nЗапланированные результаты прохождения курса:\n\n\n\nнаучиться оказывать помощь при типичных для утопления травмах и состояния пострадавших\,ознакомиться со специфическими алгоритмами обеспечения безопасности и помощи при спасении утопающего человекапознакомиться с особенностями спасения в зимнее время года на водоемах\, при попадании человека в полыньюнаучиться работать с пострадавшими\, доставленными на берег – особенности сердечно-лёгочной реанимации при утоплении\, борьба с переохлаждением\, типичные травмы «ныряльщиков»\, баротравмы;изучить тему обеспечения безопасности спасателя;отработать спасение человека с использованием плавсредств: спасательного круга\, спасательного линя;проработать приемы буксировки пострадавшего\, таких как\, буксировка за голову\, буксировка с захватом под подмышки\, буксировка с захватом под руку\, буксировка с захватом выше локтей;отработать приёмы освобождения спасателя от захватов утопающим за кисти рук; освобождение от захватов за шею спереди; за шею сзади; за туловище под руки; за ноги.\n\n\n\nПрактическая часть:\n\n\n\nПроводится в бассейне или на открытом водоёме в зависимости от времени года \n\n\n\n\n\n \n\n\n\nПрограмма соответствует требованиям Российского законодательства\, рекомендациям Международного общества Красного креста и Красного полумесяца; В программе учтены алгоритмы системы обучения EFR (Emergency First Response); Primary Care – CPR (первичная неотложная помощь – сердечно-легочная реанимация). \n\n\n\nАвторы и ведущие инструкторы курса: действующие инструктора EFR (Emergency First Response Instructor); специалисты\, имеющие большой практический опыт оказания помощи пострадавшим в чрезвычайных ситуациях – действующие аттестованные спасатели. Спасатель 1-го класса\, сотрудник поисково-спасательной службы Санкт-Петербурга Ильдар Саволайнен\, Спасатель 1-го класса\, сотрудник поисково-спасательной службы Санкт-Петербурга Михаил Шутов и спасатель\, инструктор по первой помощи\, Роман Морозов. \n\n\n\nЧто бы записаться на этот курс заполните ниже форму записи \n\n\n\nЗапись на это мероприятие закончена! Вы можете записаться на следующий такой же тренинг в разделе «Расписание и запись»Ближайший Специальный курс «Спасение на воде» пройдёт 10 апреля 2022г. Запись по этой ссылке  \n\n\n\nЧто бы не забыть о курсе Вы можете автоматически внести информацию о своей записи в свой календарь в Google Calendar\, Apple iCal или Microsoft Outlook нажав кнопку ниже
URL:https://ucmchs.ru/event/spasenie-na-vode-13-02-2022/
LOCATION:Бассейн «Волна»\, Московский проспект д. 150 лит. "Б"\, Санкт-Петербург
CATEGORIES:Курс "Спасение на воде"
ATTACH;FMTTYPE=image/png:https://ucmchs.ru/wp-content/uploads/2021/02/2021-Логотип-для-сайта-800х445-Спасение-на-воде-1.png
ORGANIZER;CN="%D0%A3%D0%A6 %D0%9C%D0%B5%D0%B4%D0%B8%D1%86%D0%B8%D0%BD%D1%8B %D0%A7%D0%A1%D0%B8%D0%91%D0%96":MAILTO:mail@ucmchs.ru/
END:VEVENT
END:VCALENDAR