BEGIN:VCALENDAR
VERSION:2.0
PRODID:-//УЦМЧС.РФ - ECPv6.15.11//NONSGML v1.0//EN
CALSCALE:GREGORIAN
METHOD:PUBLISH
X-ORIGINAL-URL:https://ucmchs.ru
X-WR-CALDESC:Мероприятия для УЦМЧС.РФ
REFRESH-INTERVAL;VALUE=DURATION:PT1H
X-Robots-Tag:noindex
X-PUBLISHED-TTL:PT1H
BEGIN:VTIMEZONE
TZID:Europe/Moscow
BEGIN:STANDARD
TZOFFSETFROM:+0300
TZOFFSETTO:+0300
TZNAME:MSK
DTSTART:20240101T000000
END:STANDARD
END:VTIMEZONE
BEGIN:VEVENT
DTSTART;TZID=Europe/Moscow:20250629T100000
DTEND;TZID=Europe/Moscow:20250629T190000
DTSTAMP:20260425T195538
CREATED:20241109T235127Z
LAST-MODIFIED:20241110T002136Z
UID:23630-1751191200-1751223600@ucmchs.ru
SUMMARY:Специальный курс «Спасение на акватории» 29 июня 2025 года
DESCRIPTION:Набор учебной группы для прохождения специального курса  «Спасение на акватории»  \n\n\n\n29 июня 2025 года \n\n\n\n\n\nОргвзнос для участия в семинаре составляет 6 000 рублей.  \n\n\n\nПри предоплате до 26.06.2025 орвзнос составит всего 4 200 рублей \n\n\n\n\n\n\n\n\n\n\nВНИМАНИЕ!!!  \n\n\n\nПрактическая часть курса будет проходить на открытой воде. \n\n\n\n\n\nВНИМАНИЕ!  \n\n\n\n\nПеред прохождением курса «Спасение на акватории» желательно пройти Базовый курс оказания первой помощи \n\n\n\n\n\n\n\n\nКраткое описание курса: Этот курс для тех\, кто хочет получить углублённые знания и приобрести практический опыт безопасного для себя спасения пострадавшего на открытой воде. Освоить действительно работающие методики самоспасения при попадании в открытую воду. \n\n\n\nМесто проведения: прибрежная часть акватории в пределах Санкт-Петербурга. \n\n\n\nЗапланированные результаты прохождения курса:\n\n\n\nВы получите навык оказания действенной помощи терпящим бедствие\, научитесь безопасно и быстро извлекать тонущих из воды как на плавсредства\, так и на берег\, с последующей эвакуацией в безопасное место и оказанием первой помощи. \n\n\n\nОсобенностью курса является непосредственная практическая отработка навыков каждым участником\, во время которой будут отработаны следующие упражнения: \n\n\n\n\n\n1. Безопасный выход на акваторию. \n\n\n\n2. Специфические алгоритмы обеспечения безопасности и помощи при спасении утопающего человека \n\n\n\n3. Методика длительного безопасного нахождения и плавания в ледяной воде без переохлаждения \n\n\n\n4. Применение различных моделей «гражданских» гидрокостюмов и гидрокостюмов\, в которых работают спасатели \n\n\n\n5. Применение водных средств спасения\, спасжилетов\, конца Способы оказания помощи тонущему вплавь и с применением средств спасения \n\n\n\n6. Александрова\, спасательного круга. \n\n\n\n7. Самоспасение при попадании в холодную воду \n\n\n\n8. Способы освобождения спасателя от захвата\, если он произошёл \n\n\n\n9. Приемы буксировки тонущего на берег \n\n\n\n10. Безопасное извлечение пострадавшего из воды \n\n\n\n11. Транспортировка и первая помощь пострадавшему при переохлаждении. \n\n\n\n\n\nПрактическая часть:\n\n\n\nПроводится на открытом водоёме в зависимости от времени года \n\n\n\n \n\n\n\nПрограмма соответствует требованиям Российского законодательства\, рекомендациям Международного общества Красного креста и Красного полумесяца; В программе учтены алгоритмы системы обучения EFR (Emergency First Response); Primary Care – CPR (первичная неотложная помощь – сердечно-легочная реанимация). \n\n\n\nАвторы и ведущие инструкторы курса: действующие инструктора EFR (Emergency First Response Instructor); специалисты\, имеющие большой практический опыт оказания помощи пострадавшим в чрезвычайных ситуациях – действующие аттестованные спасатели. Спасатель 1-го класса\, сотрудник поисково-спасательной службы Санкт-Петербурга Ильдар Саволайнен\, Спасатель 1-го класса\, сотрудник поисково-спасательной службы Санкт-Петербурга Михаил Шутов. \n\n\n\nЧто бы записаться на этот курс заполните ниже форму записи \n\n\n\n\n  \n\n\n\n *Ваша фамилия на русском языке (обязательно)\n \n \n*Ваше Имя и Отчество (при наличии) на русском языке (обязательно)\n\n \n*Ваша Фамилия на английском языке (транслитерация так же как написано на банковской карте/загранпаспорте/водительском удостоверении) (обязательно)\n\n \n*Ваше Имя на английском языке (транслитерация так же как написано на банковской карте/загранпаспорте/водительском удостоверении) (обязательно)\n\n \n*Дата Вашего рождения в формате "день.месяц.год" (обязательно)\n\n \n *Ваш ДЕЙСТВУЮЩИЙ e-mail (обязательно) ВНИМАНИЕ!!! В связи с вступлением в силу Федерального закона от 31.07.2023 N 406-ФЗ "О внесении изменений в Федеральный закон "Об информации\, информационных технологиях и о защите информации" и Федеральный закон "О связи" регистрация с использованием иностранных почтовых сервисов (Gmal\, Yahoo и пр.) не возможна. Указывайте адрес электронной почты обслуживаемый Российским оператором (mail.ru\, yandex.ru и др.)\n \n \n *Ваш телефон в формате 7(***)***-**-**(обязательно)\n \n \n Адрес страницы в ВКонтакте (при наличии)\n \n \nЯ имею право на субсидию и хочу воспользоваться скидкой на оргвзнос\nПодробнее о субсидиях (скидках) в разделе сайта "Разное .... Скидки и субсидии"\nОплата оргвзноса заранее (предоплата)Есть подарочный сертификатЕсть скидочная карта или флаерПовторно прохожу курсыДонор кровиДонор костного мозгаЧлен добровольного спасательного отрядаВолонтер благотворительной организацийАттестованный Спасатель.РядомПочётный донор России" или "Почётный донор СССР"Действительный донор костного мозгаСотрудник (работник) оперативной службы\n \nЯ участвую в семинаре от ЮРИДИЧЕСКОГО лица и мне нужны документы для оплаты по безналичному расчёту.\nНетДа\n \n Дополнительная информация для администратора\n \n \nСогласие на обработку персональных данных\nЯ согласен с обработкой моих персональных данных в соответствии с Политикой конфиденциальности\n \nВЫ НЕ СМОЖЕТЕ ОТПРАВИТЬ ДАННЫЕ НЕ ДАВ СОГЛАСИЕ НА ИХ ОБРАБОТКУ\n      \n \n\n\n\n\n\n\nЧто бы не забыть о курсе Вы можете автоматически внести информацию о своей записи в свой календарь в Google Calendar\, Apple iCal или Microsoft Outlook нажав кнопку ниже
URL:https://ucmchs.ru/event/spasenie-na-vode-29-06-2025/
LOCATION:Бассейн «Волна»\, Московский проспект д. 150 лит. "Б"\, Санкт-Петербург
CATEGORIES:-,Курс "Спасение на воде"
ATTACH;FMTTYPE=image/png:https://ucmchs.ru/wp-content/uploads/2021/02/2021-Логотип-для-сайта-800х445-Спасение-на-воде-1.png
ORGANIZER;CN="%D0%A3%D0%A6 %D0%9C%D0%B5%D0%B4%D0%B8%D1%86%D0%B8%D0%BD%D1%8B %D0%A7%D0%A1%D0%B8%D0%91%D0%96":MAILTO:mail@ucmchs.ru/
END:VEVENT
END:VCALENDAR